BEGIN:VCALENDAR
VERSION:2.0
PRODID:-//wp-events-plugin.com//7.2.3.1//EN
TZID:America/Detroit
X-WR-TIMEZONE:America/Detroit
BEGIN:VEVENT
UID:35873@arabamerica.com
DTSTART;TZID=America/Detroit:20260411T110000
DTEND;TZID=America/Detroit:20260411T130000
DTSTAMP:20260216T211555Z
URL:https://www.arabamerica.com/events/magic-and-healing-in-palestine-2/
SUMMARY:Magic and Healing in Palestine
DESCRIPTION:The "Magic and Healing in Palestine" workshop introduces the hi
 story and meaning of Palestinian amulets\, guided by the writings of Tawfi
 q Canaan. Participants will explore the medicinal\, protective\, and spiri
 tual qualities embedded in traditional objects and materials across Palest
 inian history. The session then shifts into a hands-on experience\, where 
 attendees learn foundational tatreez embroidery techniques. Using ingredie
 nts such as bay leaves\, alum\, miswak\, and aromatic spices\, participant
 s will craft their own hanging Palestinian amulet. By the end of the works
 hop\, each person will leave with a deeper understanding of cultural symbo
 lism and a handmade object rooted in ancestral practice.\n\n\n\nThis event
  is part of the Threads of Belonging workshop series. A handwoven mural co
 ming to Sacramento. Learn more at\n\nwww.culturethroughcloth.com/threadsof
 belonging.
ATTACH;FMTTYPE=image/jpeg:https://www.arabamerica.com/wp-content/uploads/2
 026/02/image-7-2.webp
LOCATION:Valley Hi-North Laguna Library\, 7400 Imagination Parkway\, Sacram
 ento\, CA\, 95823\, United States
GEO:38.451866;-121.417065
X-APPLE-STRUCTURED-LOCATION;VALUE=URI;X-ADDRESS=7400 Imagination Parkway\, 
 Sacramento\, CA\, 95823\, United States;X-APPLE-RADIUS=100;X-TITLE=Valley 
 Hi-North Laguna Library:geo:38.451866,-121.417065
END:VEVENT
BEGIN:VTIMEZONE
TZID:America/Detroit
X-LIC-LOCATION:America/Detroit
BEGIN:DAYLIGHT
DTSTART:20260308T030000
TZOFFSETFROM:-0500
TZOFFSETTO:-0400
TZNAME:EDT
END:DAYLIGHT
END:VTIMEZONE
END:VCALENDAR