BEGIN:VCALENDAR
VERSION:2.0
PRODID:-//wp-events-plugin.com//7.2.3.1//EN
TZID:America/Detroit
X-WR-TIMEZONE:America/Detroit
BEGIN:VEVENT
UID:34698@arabamerica.com
DTSTART;TZID=America/Detroit:20250704T180000
DTEND;TZID=America/Detroit:20250704T203000
DTSTAMP:20250702T230550Z
URL:https://www.arabamerica.com/events/magnificent-moroccan-meal-cooking-c
 lass-by-cozymeal-3/
SUMMARY:Magnificent Moroccan Meal - Cooking Class by Cozymeal&#x2122\;
DESCRIPTION:RENTON\, WA\n\n&nbsp\;\nLocation provided after booking\nPhenom
 enal food and incredible company await you at the chef's table! Join Cozym
 eal’s upcoming cooking class Join “Magnificent Moroccan Meal” with C
 hef Washington for an intimate 2.5-hour culinary experience and 5-course m
 eal.\n\nCozymeal offers a variety of culinary experiences\, including cook
 ing classes\, team building activities\, food tours and private chef servi
 ces. We’ll give you a unique\, unforgettable experience hosted by incred
 ible chefs and guides in over 70 cities across the U.S. and Canada. Book a
  culinary experience with Cozymeal and let us take care of the rest.
ATTACH;FMTTYPE=image/jpeg:https://www.arabamerica.com/wp-content/uploads/2
 025/07/moroccan_meal-1.png
END:VEVENT
BEGIN:VTIMEZONE
TZID:America/Detroit
X-LIC-LOCATION:America/Detroit
BEGIN:DAYLIGHT
DTSTART:20250309T030000
TZOFFSETFROM:-0500
TZOFFSETTO:-0400
TZNAME:EDT
END:DAYLIGHT
END:VTIMEZONE
END:VCALENDAR