BEGIN:VCALENDAR
VERSION:2.0
PRODID:-//wp-events-plugin.com//7.2.3.1//EN
TZID:America/Detroit
X-WR-TIMEZONE:America/Detroit
BEGIN:VEVENT
UID:35049@arabamerica.com
DTSTART;TZID=America/Detroit:20250904T180000
DTEND;TZID=America/Detroit:20250904T220000
DTSTAMP:20250901T195237Z
URL:https://www.arabamerica.com/events/mahjong-for-gaza/
SUMMARY:Mahjong For Gaza
DESCRIPTION:NEW YORK\, NY\n\n\n\nMAHJONG FOR GAZA\n\n&nbsp\;\n\nJoin us for
  a Food Mahjong Club @foodmahjong &amp\; Mahjong King @mahjongking.nyc fun
 draising tournament at WSA on September 4 from 6-10p. 100% of ticket sales
  will be donated to organizers and organizations distributing food aid in 
 Gaza\, including the work of on-the-ground photojournalist Majdi Fathi @ma
 jdi_fathi and NY-based artist Stephanie Shih @stephaniehshih who have been
  working together to raise and distribute over $700k worth of food and sup
 plies.\n\n&nbsp\;\n\nFood by\n\n@thebaodega\n\n@bebep.babykitchen\n\n@fump
 ygrain\n\n@mrjong_\n\n@supyongshin of @insa\n\n&nbsp\;\n\nSounds by\n\n@ka
 t.offline\n\n@tinasnowle\n\n@oscarnn\n\n@itsaliese\n\n&nbsp\;\n\nHosted by
 \n\n@enyleeparker\n\n@mangopostalservice\n\n@wsanyc\n\n@waterstreetproject
 snyc\n\n&nbsp\;\n\nTickets include mahjong play\, food and beverages by @j
 umo @kacetea @sanzo. Open to all levels. First hour is open play and lesso
 ns\, tournament begins at 7p.\n\n&nbsp\;\n\nNo one is free until Palestine
  is free.
ATTACH;FMTTYPE=image/jpeg:https://www.arabamerica.com/wp-content/uploads/2
 025/09/mah.png
LOCATION:WSA\, 161 Water Street \, New York\, NY\, 10038\, United States
GEO:40.70635;-74.005429
X-APPLE-STRUCTURED-LOCATION;VALUE=URI;X-ADDRESS=161 Water Street \, New Yor
 k\, NY\, 10038\, United States;X-APPLE-RADIUS=100;X-TITLE=WSA:geo:40.70635
 ,-74.005429
END:VEVENT
BEGIN:VTIMEZONE
TZID:America/Detroit
X-LIC-LOCATION:America/Detroit
BEGIN:DAYLIGHT
DTSTART:20250309T030000
TZOFFSETFROM:-0500
TZOFFSETTO:-0400
TZNAME:EDT
END:DAYLIGHT
END:VTIMEZONE
END:VCALENDAR