BEGIN:VCALENDAR
VERSION:2.0
PRODID:-//wp-events-plugin.com//7.2.3.1//EN
TZID:America/Detroit
X-WR-TIMEZONE:America/Detroit
BEGIN:VEVENT
UID:35467@arabamerica.com
DTSTART;TZID=America/Detroit:20260110T190000
DTEND;TZID=America/Detroit:20260110T203000
DTSTAMP:20251211T141637Z
URL:https://www.arabamerica.com/events/maine-middle-eastern-orchestra-at-m
 eetinghouse-arts/
SUMMARY:Maine Middle Eastern Orchestra at Meetinghouse Arts
DESCRIPTION:\n\nOverview\n\n\n\n\n\nThe Maine Middle Eastern Orchestra pres
 ents a special program\, "The Music of the Sufis\," that explores the musi
 cal traditions of Sufism.\n\n\n\n\nThe Maine Middle Eastern Orchestra is h
 onored to present a special program exploring the musical traditions of Su
 fism. Our performance will feature a selection of Egyptian sacred dance mu
 sic\, devotional Sufi hymns\, and mystical folk melodies from Turkey. This
  is a unique opportunity to witness the power of this transcendental music
 \, arranged and performed in an orchestral setting. We welcome you to join
  us for an unforgettable evening at Meetinghouse Arts.\n\nMaine Middle Eas
 tern Orchestra was founded in 2018 by Eric LaPerna with the goal of preser
 ving and performing Arabic\, Turkish and Armenian music from the art\, cla
 ssical\, folk and Sufi traditions. This music was passed on to Eric and ot
 her members of the orchestra by master musicians\, Alan Shavarsh Bardezban
 ian\, Bassam Saba and Michel Merhej Baklouk.\n\nThe MMEO is made up of mus
 ic faculty members from Berklee\, Bowdoin\, Bates and Colby Colleges\, as 
 well as musicians from the world renowned National Arab Orchestra\, New Yo
 rk Arabic Orchestra\, DaPonte String Quartet\, Okbari Middle Eastern Ensem
 ble\, Seyir Duo and the Casco Bay Tummlers.\n\n\n\n\n\n\nSaturday\, Januar
 y 10\, 2026 @ 7:00 PM. Doors open at 6:30 PM. Tickets are $25 in advance\,
  $30 at the door. Student tickets are $15. View more upcoming events by vi
 siting MeetinghouseArts.org\n\n\n\n\n\n
ATTACH;FMTTYPE=image/jpeg:https://www.arabamerica.com/wp-content/uploads/2
 025/11/https___cdn.evbuc_.com_images_1156119773_1230328833793_1_original.j
 peg
LOCATION:Meetinghouse Arts\, 40 Main Street\, Freeport\, ME\, 04032\, Unite
 d States
GEO:43.855784;-70.104911
X-APPLE-STRUCTURED-LOCATION;VALUE=URI;X-ADDRESS=40 Main Street\, Freeport\,
  ME\, 04032\, United States;X-APPLE-RADIUS=100;X-TITLE=Meetinghouse Arts:g
 eo:43.855784,-70.104911
END:VEVENT
BEGIN:VTIMEZONE
TZID:America/Detroit
X-LIC-LOCATION:America/Detroit
BEGIN:STANDARD
DTSTART:20251102T010000
TZOFFSETFROM:-0400
TZOFFSETTO:-0500
TZNAME:EST
END:STANDARD
END:VTIMEZONE
END:VCALENDAR