BEGIN:VCALENDAR
VERSION:2.0
PRODID:-//wp-events-plugin.com//7.2.3.1//EN
TZID:America/Detroit
X-WR-TIMEZONE:America/Detroit
BEGIN:VEVENT
UID:34312@arabamerica.com
DTSTART;TZID=America/Detroit:20250510T193000
DTEND;TZID=America/Detroit:20250510T210000
DTSTAMP:20250419T042258Z
URL:https://www.arabamerica.com/events/malik-elassal/
SUMMARY:Malik Elassal
DESCRIPTION:BROOKLYN\, NY\n\n\n\nMalik Elassal is a Lebanese-Canadian acto
 r\, writer\, and comedian from northeast Calgary. He was named one of the 
 New Faces at Just For Laughs in Montreal in 2022 and returned to the festi
 val in 2023 to perform at a Gala and as a part of the prestigious "Just Fo
 r The Culture" show\, where he was a standout. Malik will be starring in t
 he upcoming FX comedy series\, Adults.\n\n\n\n\n\n\n7:00pm Doors / 7:30pm 
 Show\n\n$20 GA (mixed seated / standing)\n\nAges 21+\n\n\n
ATTACH;FMTTYPE=image/jpeg:https://www.arabamerica.com/wp-content/uploads/2
 025/04/Screenshot-2025-04-18-212941.jpg
CATEGORIES:#comedy
LOCATION:Union Hall\, 702 Union St. \, Brooklyn\, NY\, United States
GEO:40.676042;-73.980133
X-APPLE-STRUCTURED-LOCATION;VALUE=URI;X-ADDRESS=702 Union St. \, Brooklyn\,
  NY\, United States;X-APPLE-RADIUS=100;X-TITLE=Union Hall:geo:40.676042,-7
 3.980133
END:VEVENT
BEGIN:VTIMEZONE
TZID:America/Detroit
X-LIC-LOCATION:America/Detroit
BEGIN:DAYLIGHT
DTSTART:20250309T030000
TZOFFSETFROM:-0500
TZOFFSETTO:-0400
TZNAME:EDT
END:DAYLIGHT
END:VTIMEZONE
END:VCALENDAR