BEGIN:VCALENDAR
VERSION:2.0
PRODID:-//wp-events-plugin.com//7.2.3.1//EN
TZID:America/Detroit
X-WR-TIMEZONE:America/Detroit
BEGIN:VEVENT
UID:30637@arabamerica.com
DTSTART;TZID=America/Detroit:20230401T110000
DTEND;TZID=America/Detroit:20230401T190000
DTSTAMP:20230307T153038Z
URL:https://www.arabamerica.com/events/manassas-ramadan-eid-bazaar-3/
SUMMARY:Manassas Ramadan & Eid Bazaar
DESCRIPTION:MANASSAS\, VA\n\n\n\nFor stall booking 978 328 2863\n\n\n\n
ATTACH;FMTTYPE=image/jpeg:https://www.arabamerica.com/wp-content/uploads/2
 023/03/Screenshot-2023-03-07-9.29.50-AM.png
CATEGORIES:bazaar,Eid
LOCATION:Manassas Church of the Brethren\, 10047 Nokesville Road\, Old Town
  Manassas\, VA 20110\, United States
GEO:38.747969;-77.499727
X-APPLE-STRUCTURED-LOCATION;VALUE=URI;X-ADDRESS=10047 Nokesville Road\, Old
  Town Manassas\, VA 20110\, United States;X-APPLE-RADIUS=100;X-TITLE=Manas
 sas Church of the Brethren:geo:38.747969,-77.499727
END:VEVENT
BEGIN:VTIMEZONE
TZID:America/Detroit
X-LIC-LOCATION:America/Detroit
BEGIN:DAYLIGHT
DTSTART:20230312T030000
TZOFFSETFROM:-0500
TZOFFSETTO:-0400
TZNAME:EDT
END:DAYLIGHT
END:VTIMEZONE
END:VCALENDAR