BEGIN:VCALENDAR
VERSION:2.0
PRODID:-//wp-events-plugin.com//7.2.3.1//EN
TZID:America/Detroit
X-WR-TIMEZONE:America/Detroit
BEGIN:VEVENT
UID:36095@arabamerica.com
DTSTART;TZID=America/Detroit:20260327T193000
DTEND;TZID=America/Detroit:20260329T220000
DTSTAMP:20260325T085945Z
URL:https://www.arabamerica.com/events/mar-29-sowt-al-ard-the-sound-of-the
 -earth/
SUMMARY:Sowt al Ard (The Sound of the Earth)
DESCRIPTION:SILVER SPRING\, MD\n\n\n\nSowt al Ard (The Sound of the Earth)
  is an immersive performance that blends opera\, dabke (Levantine dance)\
 , Arabic vocal and instrumental music\, and ritual into a multi-sensory ex
 perience centered on Arab and SWANA stories. Created by 2025/2026 Incubato
 r Artist Fairouz Foty in collaboration with Sonia Abdulbaki\, Malikat al D
 abke\, and Quartertonez Music’s Fuad Foty and Alaadin Abdulbaki\, the wo
 rk invites audiences into a living landscape of movement and sound. Perfor
 mers move through the space as dabke\, Arabic instrumental music\, opera\,
  poetry\, and vocal improvisation weave together stories of displacement\,
  loss\, and healing\, honoring cultural memory through embodied storytelli
 ng.\n\nMoving from mourning to celebration\, Sowt al Ard (The Sound of th
 e Earth) asks: What stories does the earth carry\, and how do we listen?\
 n\n\n\n\n\n\n\n\n\n\n\n\n\nShowtimes\n\n\n\nFriday\, March 27 at 7:30pm\nS
 aturday\, March 28 at 7:30pm\nSunday\, March 29 at 2:00pm\n\n\n\n\n\n\n\n\
 n\n
ATTACH;FMTTYPE=image/jpeg:https://www.arabamerica.com/wp-content/uploads/2
 026/03/786fb550-be76-48ff-878c-85d9170cf7d2.jpeg
LOCATION:Cultural Arts Center\, 7995 Georgia Ave\, Silver Spring\, MD\, 209
 10\, United States
GEO:38.986945;-77.026102
X-APPLE-STRUCTURED-LOCATION;VALUE=URI;X-ADDRESS=7995 Georgia Ave\, Silver S
 pring\, MD\, 20910\, United States;X-APPLE-RADIUS=100;X-TITLE=Cultural Art
 s Center:geo:38.986945,-77.026102
END:VEVENT
BEGIN:VTIMEZONE
TZID:America/Detroit
X-LIC-LOCATION:America/Detroit
BEGIN:DAYLIGHT
DTSTART:20260308T030000
TZOFFSETFROM:-0500
TZOFFSETTO:-0400
TZNAME:EDT
END:DAYLIGHT
END:VTIMEZONE
END:VCALENDAR