BEGIN:VCALENDAR
VERSION:2.0
PRODID:-//wp-events-plugin.com//7.2.3.1//EN
TZID:America/Detroit
X-WR-TIMEZONE:America/Detroit
BEGIN:VEVENT
UID:32310@arabamerica.com
DTSTART;TZID=America/Detroit:20240302T000000
DTEND;TZID=America/Detroit:20240302T000000
DTSTAMP:20240224T203943Z
URL:https://www.arabamerica.com/events/march-2-global-day-of-action-hands-
 off-rafah/
SUMMARY:March 2 Global Day of Action: Hands Off Rafah!
DESCRIPTION:Endorse the day of action here\n\nRegister an action in your ci
 ty here\nOn March 2\, millions across the world will march for Gaza!\n\nGa
 za is facing famine\, its hospitals are besieged\, threats of ground invas
 ion in Rafah loom near\, and Israel continues its onslaught on the over 2 
 million Palestinians in the Gaza Strip.\n\nThe mass movement for Palestine
  has led to the isolation of the US and Israel on the world stage. With gr
 owing internal divisions and heightened political pressure on Israel and t
 he United States\, it’s time to push even harder. Our mobilizations in t
 his moment can be more decisive than ever\, and we must show our full stre
 ngth now to ensure a lasting ceasefire and an end to the siege on Gaza.\n\
 nAct now\, mobilize in your communities and institutions\, everyone must b
 e on the streets March 2nd! All out for Rafah! All out for Gaza! Stop the 
 genocide!
ATTACH;FMTTYPE=image/jpeg:https://www.arabamerica.com/wp-content/uploads/2
 024/02/06c0fb15-a98f-49fe-8f63-1e383a95053c.jpg
CATEGORIES:Community
END:VEVENT
BEGIN:VTIMEZONE
TZID:America/Detroit
X-LIC-LOCATION:America/Detroit
BEGIN:STANDARD
DTSTART:20231105T010000
TZOFFSETFROM:-0400
TZOFFSETTO:-0500
TZNAME:EST
END:STANDARD
END:VTIMEZONE
END:VCALENDAR