BEGIN:VCALENDAR
VERSION:2.0
PRODID:-//wp-events-plugin.com//7.2.3.1//EN
TZID:America/Detroit
X-WR-TIMEZONE:America/Detroit
BEGIN:VEVENT
UID:35762@arabamerica.com
DTSTART;TZID=America/Detroit:20260208T100000
DTEND;TZID=America/Detroit:20260208T130000
DTSTAMP:20260127T153513Z
URL:https://www.arabamerica.com/events/masjid-as-habul-yameen-pre-ramadan-
 breakfast-2026/
SUMMARY:Masjid As Habul Yameen Pre-Ramadan Breakfast 2026
DESCRIPTION:PATERSON NJ\n\nEnjoy delicious brunch\, uplifting conversation 
 and meaningful Ramadan reminders while supporting a beautiful cause.\n\nRE
 GISTER HERE \n\n&nbsp\;
ATTACH;FMTTYPE=image/jpeg:https://www.arabamerica.com/wp-content/uploads/2
 026/01/Screenshot-2026-01-27-at-10.37.01-AM.png
LOCATION:The Brownstone\, 351 W Broadway\, Paterson\, New Jersey\, 07552\, 
 United States
GEO:40.926357;-74.185382
X-APPLE-STRUCTURED-LOCATION;VALUE=URI;X-ADDRESS=351 W Broadway\, Paterson\,
  New Jersey\, 07552\, United States;X-APPLE-RADIUS=100;X-TITLE=The Brownst
 one:geo:40.926357,-74.185382
END:VEVENT
BEGIN:VTIMEZONE
TZID:America/Detroit
X-LIC-LOCATION:America/Detroit
BEGIN:STANDARD
DTSTART:20251102T010000
TZOFFSETFROM:-0400
TZOFFSETTO:-0500
TZNAME:EST
END:STANDARD
END:VTIMEZONE
END:VCALENDAR