BEGIN:VCALENDAR
VERSION:2.0
PRODID:-//wp-events-plugin.com//7.2.3.1//EN
TZID:America/Detroit
X-WR-TIMEZONE:America/Detroit
BEGIN:VEVENT
UID:35853@arabamerica.com
DTSTART;TZID=America/Chicago:20260222T170000
DTEND;TZID=America/Chicago:20260222T200000
DTSTAMP:20260213T134546Z
URL:https://www.arabamerica.com/events/mcc-ramadan-iftaar-2026/
SUMMARY:MCC Ramadan Iftaar 2026
DESCRIPTION:\n\n\nJoin us for an evening of unity and reflection as we come
  together to break our fast and celebrate the spirit of Ramadan.\n\n\n\n\n
 \nWelcome &amp\; Celebrate Ramadan: Break Your Fast With Us\n\n"The mercif
 ul will be shown mercy by the Most Merciful. Be merciful to those on the e
 arth\, and the One in the heavens will have mercy upon you."\n– Sunan a
 l-Tirmidhi 1924\nKey Note Speaker\nRodwaan Saleh - CFRM | South Central Re
 gional Manager | Islamic Relief USA\nAs the blessed month of Ramadan beg
 ins\, we invite you and your loved ones to join us in a night of reflecti
 on\, community\, and gratitude. Let’s come together to welcome and cel
 ebrate Ramadan\, strengthen our bonds\, and share in the beauty of this sa
 cred time. Come break your fast with us\, immerse yourself in the spirit o
 f unity\, and embrace the mercy and blessings of Ramadan. We look forward 
 to sharing this special evening with you.\n\n&nbsp\;\n\n
ATTACH;FMTTYPE=image/jpeg:https://www.arabamerica.com/wp-content/uploads/2
 026/02/image-2-2.webp
LOCATION:Multicultural Art Center\, 951 Tristar Dr\, Webster\, Texas\,  775
 98\, United States
GEO:29.58958;-95.177585
X-APPLE-STRUCTURED-LOCATION;VALUE=URI;X-ADDRESS=951 Tristar Dr\, Webster\, 
 Texas\,  77598\, United States;X-APPLE-RADIUS=100;X-TITLE=Multicultural Ar
 t Center:geo:29.58958,-95.177585
END:VEVENT
BEGIN:VTIMEZONE
TZID:America/Chicago
X-LIC-LOCATION:America/Chicago
BEGIN:STANDARD
DTSTART:20251102T010000
TZOFFSETFROM:-0500
TZOFFSETTO:-0600
TZNAME:CST
END:STANDARD
END:VTIMEZONE
END:VCALENDAR