BEGIN:VCALENDAR
VERSION:2.0
PRODID:-//wp-events-plugin.com//7.2.3.1//EN
TZID:America/Detroit
X-WR-TIMEZONE:America/Detroit
BEGIN:VEVENT
UID:34938@arabamerica.com
DTSTART;TZID=America/Detroit:20250825T183000
DTEND;TZID=America/Detroit:20250825T203000
DTSTAMP:20250806T044231Z
URL:https://www.arabamerica.com/events/meatless-monday-moroccan-delight/
SUMMARY:Meatless Monday- Moroccan Delight
DESCRIPTION:Transport your taste buds to Morocco in this hands-on vegetaria
 n cooking class! Begin with a refreshing carrot and orange salad lightly s
 piced with cinnamon. Then\, learn to create a fragrant vegetable tagine si
 mmered with warm spices and served over fluffy couscous. Finish the evenin
 g with almond briouat—crisp phyllo pastries filled with sweetened nuts a
 nd drizzled with golden honey. This class is perfect for anyone eager to e
 xplore bold\, aromatic flavors and traditional North African techniques.\n
 \n&nbsp\;\n\nMenu:\n\n 	Carrot &amp\; Orange Salad with Cinnamon\n 	Vegeta
 ble Tagine with Couscous\n 	Almond Briouat (Phyllo Pastries with Honey)\n\
 n&nbsp\;\n\nCocktails\, beer and wine are available for purchase at the ba
 r.\n\n&nbsp\;\n\n*Price is per person*\n\n&nbsp\;\n\nYour purchase include
 s:\n\n• One seat in the class\n\n• Recipes\, which will be emailed at 
 the end of class\n\n• Live step-by-step cooking instruction
ATTACH;FMTTYPE=image/jpeg:https://www.arabamerica.com/wp-content/uploads/2
 025/08/IMG_0327.jpeg
LOCATION:Cookology Culinary School\, 4238 Wilson Boulevard \, Arlington\, V
 A \, 22203\, United States
GEO:38.87886;-77.110682
X-APPLE-STRUCTURED-LOCATION;VALUE=URI;X-ADDRESS=4238 Wilson Boulevard \, Ar
 lington\, VA \, 22203\, United States;X-APPLE-RADIUS=100;X-TITLE=Cookology
  Culinary School:geo:38.87886,-77.110682
END:VEVENT
BEGIN:VTIMEZONE
TZID:America/Detroit
X-LIC-LOCATION:America/Detroit
BEGIN:DAYLIGHT
DTSTART:20250309T030000
TZOFFSETFROM:-0500
TZOFFSETTO:-0400
TZNAME:EDT
END:DAYLIGHT
END:VTIMEZONE
END:VCALENDAR