BEGIN:VCALENDAR
VERSION:2.0
PRODID:-//wp-events-plugin.com//7.2.3.1//EN
TZID:America/Detroit
X-WR-TIMEZONE:America/Detroit
BEGIN:VEVENT
UID:34315@arabamerica.com
DTSTART;TZID=America/Detroit:20250421T180000
DTEND;TZID=America/Detroit:20250421T203000
DTSTAMP:20250419T045306Z
URL:https://www.arabamerica.com/events/meatless-moroccan-dinner-cooking-cl
 ass-by-cozymeal/
SUMMARY:Meatless Moroccan Dinner - Cooking Class by Cozymeal
DESCRIPTION:SOMERVILLE\, MA\n\nDescription\n\n\nPhenomenal food and incredi
 ble company await you at the chef's table! Join Cozymeal’s upcoming cook
 ing class Join “Meatless Moroccan Dinner” with Chef Sawsan for an inti
 mate 2.5-hour culinary experience and 4-course meal.\n\n\nCozymeal offers 
 a variety of culinary experiences\, including cooking classes\, team build
 ing activities\, food tours and private chef services. We’ll give you a 
 unique\, unforgettable experience hosted by incredible chefs and guides in
  over 70 cities across the U.S. and Canada. Book a culinary experience wit
 h Cozymeal and let theus take care of the rest.\n\nFor additional informat
 ion and dates visit Meatless Moroccan Dinner
ATTACH;FMTTYPE=image/jpeg:https://www.arabamerica.com/wp-content/uploads/2
 025/04/Screenshot-2025-04-18-215915.jpg
CATEGORIES:Cooking Class
LOCATION:Location provided after booking\, provided after booking\, Somervi
 lle\, MA\, 02143\, United States
GEO:42.380876;-71.100288
X-APPLE-STRUCTURED-LOCATION;VALUE=URI;X-ADDRESS=provided after booking\, So
 merville\, MA\, 02143\, United States;X-APPLE-RADIUS=100;X-TITLE=Location 
 provided after booking:geo:42.380876,-71.100288
END:VEVENT
BEGIN:VTIMEZONE
TZID:America/Detroit
X-LIC-LOCATION:America/Detroit
BEGIN:DAYLIGHT
DTSTART:20250309T030000
TZOFFSETFROM:-0500
TZOFFSETTO:-0400
TZNAME:EDT
END:DAYLIGHT
END:VTIMEZONE
END:VCALENDAR