BEGIN:VCALENDAR
VERSION:2.0
PRODID:-//wp-events-plugin.com//7.2.3.1//EN
TZID:America/Detroit
X-WR-TIMEZONE:America/Detroit
BEGIN:VEVENT
UID:35859@arabamerica.com
DTSTART;TZID=America/Detroit:20260221T110000
DTEND;TZID=America/Detroit:20260222T160000
DTSTAMP:20260213T213703Z
URL:https://www.arabamerica.com/events/medina-ramadan-market-2/
SUMMARY:Medina Ramadan Market
DESCRIPTION:Medina Ramadan Market is- a weekend of culture\, community\, an
 d celebration!\n\nGet Ready for the Medina Ramadan Market 2026!\n\nJoin us
  for a weekend of community\, culture\, and celebration at the Oakton High
  School Cafeteria in VIENNA\, VA! Discover amazing local vendors offering 
 Eid &amp\; Ramadan decor\, clothing\, books\, Islamic art\, food\, and mor
 e — all under one roof!\n\nThis is our 5th Annual Medina Ramadan Market 
 and a 2-Day Event!\n\nSaturday\, February 21 &amp\; Sunday\, February 22\,
  2026\n11:00 a.m. – 4:00 p.m. (both days)\nOakton High School Cafeteria 
 – Door 16\, 2900 Sutton Rd\, Vienna\, VA\n\nFree Entry! Everyone is welc
 ome!\nKid’s Activity Areas\nLimited Swag Bags\nCome shop\, support local
  businesses\, and get ready for Ramadan with your family and friends!\n\nR
 SVP now and invite your friends — let’s make this year’s Medina Rama
 dan Market the biggest and best yet!
ATTACH;FMTTYPE=image/jpeg:https://www.arabamerica.com/wp-content/uploads/2
 026/02/image-3-2.webp
LOCATION:Oakton High School\, 2900 Sutton Road\, Vienna\, VA\, 22181\, Unit
 ed States
GEO:38.878631;-77.281145
X-APPLE-STRUCTURED-LOCATION;VALUE=URI;X-ADDRESS=2900 Sutton Road\, Vienna\,
  VA\, 22181\, United States;X-APPLE-RADIUS=100;X-TITLE=Oakton High School:
 geo:38.878631,-77.281145
END:VEVENT
BEGIN:VTIMEZONE
TZID:America/Detroit
X-LIC-LOCATION:America/Detroit
BEGIN:STANDARD
DTSTART:20251102T010000
TZOFFSETFROM:-0400
TZOFFSETTO:-0500
TZNAME:EST
END:STANDARD
END:VTIMEZONE
END:VCALENDAR