BEGIN:VCALENDAR
VERSION:2.0
PRODID:-//wp-events-plugin.com//7.2.3.1//EN
TZID:America/Detroit
X-WR-TIMEZONE:America/Detroit
BEGIN:VEVENT
UID:35189@arabamerica.com
DTSTART;TZID=America/New_York:20251003T180000
DTEND;TZID=America/New_York:20251003T210000
DTSTAMP:20251001T050915Z
URL:https://www.arabamerica.com/events/mediterranean-experience-cooking-cl
 ass-by-cozymeal/
SUMMARY:Mediterranean Experience - Cooking Class by Cozymeal&#x2122\;
DESCRIPTION:MEMPHIS\, TN\n\nPhenomenal food and incredible company await yo
 u at the chef's table! Join Cozymeal’s upcoming cooking class Join “Me
 diterranean Experience” with Chef Tracy for an intimate 2.5-hour culinar
 y experience and 3-course meal.\n\n\n\n\nCozymeal offers a variety of culi
 nary experiences\, including cooking classes\, team building activities\, 
 food tours and private chef services. We’ll give you a unique\, unforget
 table experience hosted by incredible chefs and guides in over 70 cities a
 cross the U.S. and Canada. Book a culinary experience with Cozymeal and le
 t theus take care of the rest.
ATTACH;FMTTYPE=image/jpeg:https://www.arabamerica.com/wp-content/uploads/2
 025/10/Screen-Shot-2025-10-01-at-1.08.22-AM.png
LOCATION:Memphis\, Memphis\, TN 38104\, Tennessee\, 38104\, United States
GEO:35.132379;-90.004663
X-APPLE-STRUCTURED-LOCATION;VALUE=URI;X-ADDRESS=Memphis\, TN 38104\, Tennes
 see\, 38104\, United States;X-APPLE-RADIUS=100;X-TITLE=Memphis:geo:35.1323
 79,-90.004663
END:VEVENT
BEGIN:VTIMEZONE
TZID:America/New_York
X-LIC-LOCATION:America/New_York
BEGIN:DAYLIGHT
DTSTART:20250309T030000
TZOFFSETFROM:-0500
TZOFFSETTO:-0400
TZNAME:EDT
END:DAYLIGHT
END:VTIMEZONE
END:VCALENDAR