BEGIN:VCALENDAR
VERSION:2.0
PRODID:-//wp-events-plugin.com//7.2.3.1//EN
TZID:America/Detroit
X-WR-TIMEZONE:America/Detroit
BEGIN:VEVENT
UID:31698@arabamerica.com
DTSTART;TZID=America/Detroit:20230930T170000
DTEND;TZID=America/Detroit:20230930T193000
DTSTAMP:20230919T023150Z
URL:https://www.arabamerica.com/events/mediterranean-lebanese-dinner/
SUMMARY:Mediterranean (Lebanese) Dinner
DESCRIPTION:\n\n\nJoin us for a Mediterranean (Lebanese) dinner! !نأمل 
 أن نراكم هناك\n\n\n\n\n\n\n\n\n\n
CATEGORIES:Community,culture,Food
LOCATION:Phoenician Taverna\, 7944 South Mason Montgomery Road\, Mason\, OH
 \, United States
GEO:39.323816;-84.311568
X-APPLE-STRUCTURED-LOCATION;VALUE=URI;X-ADDRESS=7944 South Mason Montgomery
  Road\, Mason\, OH\, United States;X-APPLE-RADIUS=100;X-TITLE=Phoenician T
 averna:geo:39.323816,-84.311568
END:VEVENT
BEGIN:VTIMEZONE
TZID:America/Detroit
X-LIC-LOCATION:America/Detroit
BEGIN:DAYLIGHT
DTSTART:20230312T030000
TZOFFSETFROM:-0500
TZOFFSETTO:-0400
TZNAME:EDT
END:DAYLIGHT
END:VTIMEZONE
END:VCALENDAR