BEGIN:VCALENDAR
VERSION:2.0
PRODID:-//wp-events-plugin.com//7.2.3.1//EN
TZID:America/Detroit
X-WR-TIMEZONE:America/Detroit
BEGIN:VEVENT
UID:34933@arabamerica.com
DTSTART;TZID=America/Detroit:20250806T183000
DTEND;TZID=America/Detroit:20250806T203000
DTSTAMP:20250806T020533Z
URL:https://www.arabamerica.com/events/mediterranean-mezze/
SUMMARY:Mediterranean Mezze
DESCRIPTION:ARLINGTON\, VA\n\n&nbsp\;\n\nWelcome to Mediterranean Mezze!\nC
 lass Experience\n&nbsp\;\n\nDive into the bold and vibrant flavors of the 
 Middle East in this hands-on Meatless Monday cooking class! You’ll start
  by making creamy Hummus paired with warm\, fluffy Homemade Pita. Next\, m
 aster the art of crispy Falafel served with cool\, refreshing Tzatziki. Fi
 nish the evening with sweet\, flaky Baklava Bites packed with nuts and hon
 ey. This class is perfect for food lovers eager to explore Mediterranean c
 lassics made from scratch with fresh\, wholesome ingredients.\n\n&nbsp\;\n
 \nMenu: Medditerranean Mezze\n\n 	Humus with Homemade Pita\n 	Falafel with
  Tzatziki\n 	Baklava Bites\n\n&nbsp\;\n\nCocktails\, beer and wine are ava
 ilable for purchase at the bar.\n\n*Price is per person*\n\n&nbsp\;\n\nYou
 r purchase includes:\n\n• One seat in the class\n\n• Recipes\, which w
 ill be emailed at the end of class\n\n• Live step-by-step cooking instru
 ction\n\n&nbsp\;\n\nClasses are approximately 90 minutes – 2 hours\n\n&n
 bsp\;\n\nPrice is per person\, and unfortunately\, Sawyer is limited in it
 s ability to register multiple adults for a single class. So\, if you woul
 d like to register another adult for this class\, you must sign them up as
  your child. Simply choose "ADD CHILD” and enter your guests name and 
 a birthday. This will allow you to register another participant. Price is
  per person\, so it will add the additional cost for the seat. Or you can 
 have your guest(s) create an account and register themselves separately.\n
 \nWe apologize for the inconvenience. However\, be sure to indicate any al
 lergies for yourself or your guest(s) when you sign up. If you have any is
 sues\, please email us at info@cookologyonline.com or call us at (703) 
 433-1909 press 1.\n\n&nbsp\;\n\nMust be 21+ to drink alcohol.\n\n&nbsp\;\
 n\nALTERNATIVES: Non-alcoholic drink options available. Vegetarian\, non-
 dairy and gluten-free substitutions available for every class. Please make
  us aware of any accommodations we need to make on your behalf at registra
 tion check-out.\n\n&nbsp\;\n\nParking in Ballston Quarter parking lot is r
 ecommended. Park on level 4 or 5\, then proceed to Mall level 3. We are lo
 cated next to Macy’s.\n\n&nbsp\;\n\nhttps://cookologyonline.com/terms-co
 nditions/
ATTACH;FMTTYPE=image/jpeg:https://www.arabamerica.com/wp-content/uploads/2
 025/08/mediterranean_mezze.png
LOCATION:Cookology Culinary School\, 4238 Wilson Boulevard \, Arlington\, V
 A \, 22203\, United States
GEO:38.87886;-77.110682
X-APPLE-STRUCTURED-LOCATION;VALUE=URI;X-ADDRESS=4238 Wilson Boulevard \, Ar
 lington\, VA \, 22203\, United States;X-APPLE-RADIUS=100;X-TITLE=Cookology
  Culinary School:geo:38.87886,-77.110682
END:VEVENT
BEGIN:VTIMEZONE
TZID:America/Detroit
X-LIC-LOCATION:America/Detroit
BEGIN:DAYLIGHT
DTSTART:20250309T030000
TZOFFSETFROM:-0500
TZOFFSETTO:-0400
TZNAME:EDT
END:DAYLIGHT
END:VTIMEZONE
END:VCALENDAR