BEGIN:VCALENDAR
VERSION:2.0
PRODID:-//wp-events-plugin.com//7.2.3.1//EN
TZID:America/Detroit
X-WR-TIMEZONE:America/Detroit
BEGIN:VEVENT
UID:31567@arabamerica.com
DTSTART;TZID=America/Detroit:20230824T183000
DTEND;TZID=America/Detroit:20230824T210000
DTSTAMP:20230816T153000Z
URL:https://www.arabamerica.com/events/mediterranean-morocco-malbec/
SUMMARY:Mediterranean Morocco & Malbec
DESCRIPTION:
ATTACH;FMTTYPE=image/jpeg:https://www.arabamerica.com/wp-content/uploads/2
 023/08/https___cdn.evbuc_.com_images_571351869_1628702937883_1_original.jp
 eg
CATEGORIES:#arabic,Community,culture,Food
LOCATION:Park City Culinary Institute 1484 S State Street Salt Lake City\, 
 Park City Culinary Institute 1484 S State Street \, Salt Lake City\, UT\, 
 84115\, United States
GEO:40.737356;-111.888514
X-APPLE-STRUCTURED-LOCATION;VALUE=URI;X-ADDRESS=Park City Culinary Institut
 e 1484 S State Street \, Salt Lake City\, UT\, 84115\, United States;X-APP
 LE-RADIUS=100;X-TITLE=Park City Culinary Institute 1484 S State Street Sal
 t Lake City:geo:40.737356,-111.888514
END:VEVENT
BEGIN:VTIMEZONE
TZID:America/Detroit
X-LIC-LOCATION:America/Detroit
BEGIN:DAYLIGHT
DTSTART:20230312T030000
TZOFFSETFROM:-0500
TZOFFSETTO:-0400
TZNAME:EDT
END:DAYLIGHT
END:VTIMEZONE
END:VCALENDAR