BEGIN:VCALENDAR
VERSION:2.0
PRODID:-//wp-events-plugin.com//7.2.3.1//EN
TZID:America/Detroit
X-WR-TIMEZONE:America/Detroit
BEGIN:VEVENT
UID:35566@arabamerica.com
DTSTART;TZID=America/New_York:20260124T170000
DTEND;TZID=America/New_York:20260124T200000
DTSTAMP:20251216T161602Z
URL:https://www.arabamerica.com/events/mediterranean-night/
SUMMARY:Mediterranean Night
DESCRIPTION:THOMPSON\, CT\n\n\nThis hands on class will have you preparing 
 a rack of lamb\, tzatziki\, baba ganoush\, Israeli salad\, and tabbouleh.\
 n\n\n\n\nThe only "dumb questions" are those that you don't ask. This is a
  learning environment where everyone of all skill levels are welcome!\n\nT
 his hands on class will have you preparing a rack of lamb- showing you pre
 paration of the meat\, seasoning and cooking techniques. We will make pest
 o\, tzatziki &amp\; baba ganoush\, traditional spreads and condiments\, as
  well as Israeli salad &amp\; tabbouleh for cool sides for this summer mea
 l.\n\nThis event is BYOB.\n\nGet Tickets Here\n\n\n
ATTACH;FMTTYPE=image/jpeg:https://www.arabamerica.com/wp-content/uploads/2
 025/12/Screenshot-2025-12-16-at-11.12.30-AM.png
LOCATION:17 Fabyan Woodstock Rd\, 17 Fabyan Woodstock Rd\, Thompson\, CT\, 
 06255\, United States
GEO:42.007429;-71.947359
X-APPLE-STRUCTURED-LOCATION;VALUE=URI;X-ADDRESS=17 Fabyan Woodstock Rd\, Th
 ompson\, CT\, 06255\, United States;X-APPLE-RADIUS=100;X-TITLE=17 Fabyan W
 oodstock Rd:geo:42.007429,-71.947359
END:VEVENT
BEGIN:VTIMEZONE
TZID:America/New_York
X-LIC-LOCATION:America/New_York
BEGIN:STANDARD
DTSTART:20251102T010000
TZOFFSETFROM:-0400
TZOFFSETTO:-0500
TZNAME:EST
END:STANDARD
END:VTIMEZONE
END:VCALENDAR