BEGIN:VCALENDAR
VERSION:2.0
PRODID:-//wp-events-plugin.com//7.2.3.1//EN
TZID:America/Detroit
X-WR-TIMEZONE:America/Detroit
BEGIN:VEVENT
UID:34623@arabamerica.com
DTSTART;TZID=America/Detroit:20250628T180000
DTEND;TZID=America/Detroit:20250628T210000
DTSTAMP:20250617T232228Z
URL:https://www.arabamerica.com/events/mediterranean-nights-2/
SUMMARY:Mediterranean Nights
DESCRIPTION:DELRAY BEACH\, FL\n\n&nbsp\;\n\nAges 18+\n\nSpice up your eveni
 ng with a flavor-packed journey through the Mediterranean in this hands-on
  cooking class.\n\nOn The Menu: Moroccan Spiced Scallops\, Pine Nut Cousco
 us\, Harrissa Glazed Carrots\, Olive Oil Polenta Cake\n\nSpice up your eve
 ning with a flavor-packed journey through the Mediterranean! In this sultr
 y\, hands-on class\, we’ll sear up some Moroccan Spiced Scallops that ar
 e pure magic\, fluff up Pine Nut Couscous like a pro\, and glaze Harissa C
 arrots to fiery perfection. And just when you think you can’t take anoth
 er bite—boom! We finish with a dreamy Olive Oil Polenta Cake that’s pu
 re golden decadence.\n\nExpect bold spices\, vibrant flavors\, and a serio
 us upgrade to your home cooking game. Come hungry\, leave inspired\, and d
 on’t be surprised if your dinner parties suddenly get a lot more popular
 !\n\nNo passport needed\, just a love for good food and great vibes! &#x1f
 525\;\n\nPlease note: To enhance your experience\, please feel free to bri
 ng your favorite beer\, wine (21+) or non-alcoholic beverage to enjoy.\n\n
 For safety reasons\, all participants in our culinary classes must wear cl
 osed-toed shoes and have long hair tied back. These guidelines help protec
 t you from potential kitchen hazards. Thank you for your cooperation!\n\n*
 Registration closes 48 hours before class. However\, if it’s less than 4
 8 hours and you're interested in signing up\, contact us directly to see i
 f we can squeeze you in or if there’s a cancellation.\n\nGet Tickets her
 e\n\n&nbsp\;
ATTACH;FMTTYPE=image/jpeg:https://www.arabamerica.com/wp-content/uploads/2
 025/06/Screenshot-2025-06-17-at-7.23.22-PM.png
CATEGORIES:Arab,Arab American,Community,culture,Food
LOCATION:The Hub at Space of Mind\, 101 NW 1st Ave\, Delray Beach\, FL\, 33
 444\, United States
GEO:26.463772;-80.073981
X-APPLE-STRUCTURED-LOCATION;VALUE=URI;X-ADDRESS=101 NW 1st Ave\, Delray Bea
 ch\, FL\, 33444\, United States;X-APPLE-RADIUS=100;X-TITLE=The Hub at Spac
 e of Mind:geo:26.463772,-80.073981
END:VEVENT
BEGIN:VTIMEZONE
TZID:America/Detroit
X-LIC-LOCATION:America/Detroit
BEGIN:DAYLIGHT
DTSTART:20250309T030000
TZOFFSETFROM:-0500
TZOFFSETTO:-0400
TZNAME:EDT
END:DAYLIGHT
END:VTIMEZONE
END:VCALENDAR