BEGIN:VCALENDAR
VERSION:2.0
PRODID:-//wp-events-plugin.com//7.2.3.1//EN
TZID:America/Detroit
X-WR-TIMEZONE:America/Detroit
BEGIN:VEVENT
UID:34910@arabamerica.com
DTSTART;TZID=America/Detroit:20250930T180000
DTEND;TZID=America/Detroit:20250930T200000
DTSTAMP:20250805T194253Z
URL:https://www.arabamerica.com/events/mediterranean-vegetables/
SUMMARY:Mediterranean Vegetables
DESCRIPTION:Take a virtual vegetarian trip to the Mediterranean!\n\nMenu in
 cludes:Tomato-Summer Squash Puff Pastry Tart with Za’atar\n\nRigatoni wi
 th Pistachio-Ricotta Basil Pesto\n\nZucchini Dip with Tahini &amp\; Lemon\
 n\nSummer Salad with Chickpeas\, Cucumbers\, Tomatoes &amp\; Fried Halloum
 i\n\nLike buying a theater ticket\, seats in a class are non-transferable 
 (to another date) &amp\; non-refundable unless Southern Home &amp\; Kitche
 n cancels the class.\n\nThe majority of our classes are demonstration styl
 e. Look for HANDS-ON in the class title and description if you’re lookin
 g for a more interactive experience
ATTACH;FMTTYPE=image/jpeg:https://www.arabamerica.com/wp-content/uploads/2
 025/08/Screenshot-2025-08-05-at-12.43.08-PM.png
LOCATION:Southern Home & Kitchen\, 200 S. Stratford Road\, Winston-Salem\, 
 NC\, 27103\, United States
GEO:36.0934499;-80.28075079999996
X-APPLE-STRUCTURED-LOCATION;VALUE=URI;X-ADDRESS=200 S. Stratford Road\, Win
 ston-Salem\, NC\, 27103\, United States;X-APPLE-RADIUS=100;X-TITLE=Souther
 n Home & Kitchen:geo:36.0934499,-80.28075079999996
END:VEVENT
BEGIN:VTIMEZONE
TZID:America/Detroit
X-LIC-LOCATION:America/Detroit
BEGIN:DAYLIGHT
DTSTART:20250309T030000
TZOFFSETFROM:-0500
TZOFFSETTO:-0400
TZNAME:EDT
END:DAYLIGHT
END:VTIMEZONE
END:VCALENDAR