BEGIN:VCALENDAR
VERSION:2.0
PRODID:-//wp-events-plugin.com//7.2.3.1//EN
TZID:America/Detroit
X-WR-TIMEZONE:America/Detroit
BEGIN:VEVENT
UID:35346@arabamerica.com
DTSTART;TZID=America/North_Dakota/New_Salem:20251115T170000
DTEND;TZID=America/North_Dakota/New_Salem:20251115T193000
DTSTAMP:20251103T220825Z
URL:https://www.arabamerica.com/events/memphis-purehands-yemen-fundraising
 -dinner/
SUMMARY:Memphis PureHands: Yemen Fundraising Dinner
DESCRIPTION:Join us for a heartfelt evening dedicated to bringing hope and 
 relief to the people of Yemen. Enjoy a delicious dinner with us.
ATTACH;FMTTYPE=image/jpeg:https://www.arabamerica.com/wp-content/uploads/2
 025/11/https___cdn.evbuc_.com_images_1129304783_353757840243_1_original.jp
 g
CATEGORIES:Fundraiser,Fundraising,Yemen,Yemeni American
LOCATION:Masjid Ar-Rahman\, 7906 Lowrance Road\, Memphis \, TN\, 38125\, Un
 ited States
GEO:35.03638;-89.799756
X-APPLE-STRUCTURED-LOCATION;VALUE=URI;X-ADDRESS=7906 Lowrance Road\, Memphi
 s \, TN\, 38125\, United States;X-APPLE-RADIUS=100;X-TITLE=Masjid Ar-Rahma
 n:geo:35.03638,-89.799756
END:VEVENT
BEGIN:VTIMEZONE
TZID:America/North_Dakota/New_Salem
X-LIC-LOCATION:America/North_Dakota/New_Salem
BEGIN:STANDARD
DTSTART:20251102T010000
TZOFFSETFROM:-0500
TZOFFSETTO:-0600
TZNAME:CST
END:STANDARD
END:VTIMEZONE
END:VCALENDAR