BEGIN:VCALENDAR
VERSION:2.0
PRODID:-//wp-events-plugin.com//7.2.3.1//EN
TZID:America/Detroit
X-WR-TIMEZONE:America/Detroit
BEGIN:VEVENT
UID:35030@arabamerica.com
DTSTART;TZID=America/Los_Angeles:20250914T190000
DTEND;TZID=America/Los_Angeles:20250914T220000
DTSTAMP:20250821T192548Z
URL:https://www.arabamerica.com/events/mesto-multi-ethnic-star-orchestra-2
 /
SUMMARY:MESTO - Multi Ethnic Star Orchestra
DESCRIPTION:Come join this great orchestra\nin a once-in-a-lifetime concert
 . 
ATTACH;FMTTYPE=image/jpeg:https://www.arabamerica.com/wp-content/uploads/2
 025/08/Screenshot-2025-08-21-at-2.23.45-PM.png
END:VEVENT
BEGIN:VTIMEZONE
TZID:America/Los_Angeles
X-LIC-LOCATION:America/Los_Angeles
BEGIN:DAYLIGHT
DTSTART:20250309T030000
TZOFFSETFROM:-0800
TZOFFSETTO:-0700
TZNAME:PDT
END:DAYLIGHT
END:VTIMEZONE
END:VCALENDAR