BEGIN:VCALENDAR
VERSION:2.0
PRODID:-//wp-events-plugin.com//7.2.3.1//EN
TZID:America/Detroit
X-WR-TIMEZONE:America/Detroit
BEGIN:VEVENT
UID:36102@arabamerica.com
DTSTART;TZID=America/Detroit:20260426T140000
DTEND;TZID=America/Detroit:20260426T170000
DTSTAMP:20260331T145024Z
URL:https://www.arabamerica.com/events/mezze-museum-tour-arab-american-nat
 ional-museum-x-michigan-eod-2/
SUMMARY:Mezze & Museum Tour | Arab American National Museum x Michigan EOD
DESCRIPTION:DEARBORN\, MI\n\n&nbsp\;\n\n\nCelebrate culture\, history\, and
  community with us this April!\n\n\n\n\n\nStep into the rich history and c
 ulture at the National Arab American Museum in Dearborn.\n\nThis 90-minute
  guided tour includes a taste of traditional mezze—delicious Arabic b
 ites—and an exclusive 10% discount in the museum gift shop.\n\nTicket s
 ales are limited to only 50 spots!\n\nTicket options include transportat
 ion from Arborland Mall but is limited to just 35 seats\, so secure your
  spot soon!\n\nhttps://www.eventbrite.com/e/mezze-museum-tour-arab-america
 n-national-museum-x-michigan-eod-tickets-1985288819301?aff=ebdssbdestsearc
 h\n\n\n
ATTACH;FMTTYPE=image/jpeg:https://www.arabamerica.com/wp-content/uploads/2
 026/03/image-4-1.webp
LOCATION:Arab American National Museum\, 13624 Michigan Avenue\, Dearborn \
 , MI\, 48126\, United States
GEO:42.3222224;-83.1766346
X-APPLE-STRUCTURED-LOCATION;VALUE=URI;X-ADDRESS=13624 Michigan Avenue\, Dea
 rborn \, MI\, 48126\, United States;X-APPLE-RADIUS=100;X-TITLE=Arab Americ
 an National Museum:geo:42.3222224,-83.1766346
END:VEVENT
BEGIN:VTIMEZONE
TZID:America/Detroit
X-LIC-LOCATION:America/Detroit
BEGIN:DAYLIGHT
DTSTART:20260308T030000
TZOFFSETFROM:-0500
TZOFFSETTO:-0400
TZNAME:EDT
END:DAYLIGHT
END:VTIMEZONE
END:VCALENDAR