BEGIN:VCALENDAR
VERSION:2.0
PRODID:-//wp-events-plugin.com//7.2.3.1//EN
TZID:America/Detroit
X-WR-TIMEZONE:America/Detroit
BEGIN:VEVENT
UID:35074@arabamerica.com
DTSTART;TZID=America/New_York:20251018T190000
DTEND;TZID=America/New_York:20251018T233000
DTSTAMP:20250903T044847Z
URL:https://www.arabamerica.com/events/miami-pool-party/
SUMMARY:Miami Pool Party
DESCRIPTION:MIAMI BEACH\, FL\n\nWelcome to the Habibi Pool Party!\n\nCome j
 oin us for a day of fun in the sun at South Beach. Get ready to splash ar
 ound in the pool\, enjoy refreshing drinks\, and dance to the hottest beat
 s all day long!\n\nDon't forget to bring your swimsuit\, sunscreen\, and y
 our best vibes. This is going to be a party you won't want to miss!\n\nSo 
 grab your friends and get ready for a day of poolside fun at the Habibi P
 ool Party! See you there!\n\nArab + Latin DJ and performances\n\nFood\, dr
 inks\, and hookah for purchase\n\nEvent Disclaimer: By purchasing a ticket
  to this event\, you acknowledge and agree that photos and videos may be t
 aken during the event and used for promotional purposes on social media an
 d other platforms.\n\nAll ticket sales are final. NO REFUNDS will be issue
 d. 21+
ATTACH;FMTTYPE=image/jpeg:https://www.arabamerica.com/wp-content/uploads/2
 025/09/IMG_0471.jpeg
LOCATION:Park Central South Beach\, 640 Ocean Drive\, Miami Beach\, Florida
  \, 33139\, United States
GEO:25.776361;-80.131642
X-APPLE-STRUCTURED-LOCATION;VALUE=URI;X-ADDRESS=640 Ocean Drive\, Miami Bea
 ch\, Florida \, 33139\, United States;X-APPLE-RADIUS=100;X-TITLE=Park Cent
 ral South Beach:geo:25.776361,-80.131642
END:VEVENT
BEGIN:VTIMEZONE
TZID:America/New_York
X-LIC-LOCATION:America/New_York
BEGIN:DAYLIGHT
DTSTART:20250309T030000
TZOFFSETFROM:-0500
TZOFFSETTO:-0400
TZNAME:EDT
END:DAYLIGHT
END:VTIMEZONE
END:VCALENDAR