BEGIN:VCALENDAR
VERSION:2.0
PRODID:-//wp-events-plugin.com//7.2.3.1//EN
TZID:America/Detroit
X-WR-TIMEZONE:America/Detroit
BEGIN:VEVENT
UID:34824@arabamerica.com
DTSTART;TZID=America/Detroit:20250731T193000
DTEND;TZID=America/Detroit:20250731T213000
DTSTAMP:20250729T190326Z
URL:https://www.arabamerica.com/events/michel-khleifis-fertile-memory-1980
 -a-landmark-of-palestinian-cinema-3/
SUMMARY:Michel Khleifi's FERTILE MEMORY (1980) – A Landmark of Palestinia
 n Cinema
DESCRIPTION:LOS ANGELES\, CA\n\n&nbsp\;\n\n\n\nAs part of their July series
  "US Tour\," 7th House is proud to present a rare screening of Palestinian
  filmmaker Michel Khleifi's gorgeous\, meditative\, and deeply affecting l
 andmark film FERTILE MEMORY(1980). The sole film in 7th House's series not
  set on American soil\, it nevertheless reverberates with our nation's con
 temporary impact abroad. The first full length film to be shot within the 
 disputed Palestinian West Bank "Green Line\," FERTILE MEMORY is the featur
 e debut of Khleifi\, acclaimed director of the Cannes Film Festival triump
 h\, WEDDING IN GALILEE. Lyrically blending both documentary and narrative 
 elements\, Khleifi skillfully and lovingly crafts a portrait of two Palest
 inian women whose individual struggles both define and transcend the polit
 ics that have torn apart their homes and their lives.\n\n&nbsp\;\n\nGrandm
 other Romia fights an unending legal battle with the Zionist authorities w
 ho confiscated her ancestral land soon after the Israeli occupation in 194
 7. With her family scattered all over the globe while she works in an Isra
 eli factory\, Romia doggedly maintains a dignity and passion that for her 
 are the difference between mere subsistence and tenacious survival. Sahar 
 Khalifeh\, a divorced novelist and young mother living in the West Bank\, 
 struggles to maintain a modern role for herself within her increasingly in
 tolerant occupation community. Representing both contemporary Arab womanho
 od and vanguard Palestinian conscience\, Sahar must balance the changes in
  her world after the Six Day War with the changes in herself after achievi
 ng personal emancipation.\n\n&nbsp\;\n\nWith painterly flair\, Khleifi ele
 vates the everyday details of Romia's and Sahar's lives to a timelessness 
 as irresistible as the hauntingly beautiful desert landscape they fight fo
 r. Whether in a tearful lullaby or a sensuously performed lover's lament\,
  the women of FERTILE MEMORY lend tender and powerful voices to their peop
 le's chorus of outrage. Michel Khleifi's poetic and powerful film puts a d
 istinctively feminine expression on the ordinarily violent and male domina
 ted face of Palestinian resistance.\n\n&nbsp\;\n\nDir. Michel Khleifi\, 19
 80\, 99 mins\, Palestine\, Arabic w/ English subtitles\, Unrated\, Color\,
  Digital.\n\n&nbsp\;\n\n&nbsp\;\nTicket price: $12 (in person event only)\
 nPlease email events@prs.org or phone 323-663-2167 with any questions.\n\n
 \n\n\n\n\n\n\n\n\n\n\n\n\n\n\n\n\n\n\n\n\n\n\n\n\n\n\n\n\n\n\n\n\n\n\n\n\n
 \n\n\n\n\n\n\n\n\n\n\n\n\n\n\n\n\nADVISORY DISCLAIMER\n\nWith some excepti
 on\, The Philosophical Research Society’s 7th House Screenings does not 
 typically provide advisory warnings about potentially upsetting content or
  subject matter\, as sensitivities are particular to each viewer. Please b
 e sure to read event listings\, research on the web\, or visit Common Sens
 e Media\, IMDb\, and DoesTheDogDie.com for thorough info on content and ag
 e-appropriateness. If you have any specific content advisory questions\, p
 lease email events@prs.org.\n\n&nbsp\;\n\nCONTENT DISCLAIMER\n\nThe views\
 , opinions\, and thoughts expressed within exhibited works are solely thos
 e of their creators and may not represent those of the Philosophical Resea
 rch Society (PRS)\, its affiliates\, or any individuals associated with PR
 S. Screenings are intended for educational and entertainment purposes.\n\n
 &nbsp\;\n\nACCESSIBILITY\n\nPRS wants all guests to be able to enjoy our e
 vents safely and comfortably. If you require any accessibility accommodati
 on\, please reach out to events@prs.org before showtime and we will be hap
 py to assist you.\n\n&nbsp\;\n\nREFUND POLICIES\n\nAll sales are final. Th
 ere are no refunds for PRS events \, except in the event of a medical emer
 gency\, including but not limited to a positive COVID-19 test. Ticket exch
 anges may be granted on a case by case basis\, pending circumstances.\n\nI
 n the event that PRS is forced to cancel an event entirely\, tickets will 
 be refunded or vouchers offered for a rescheduled event.\n\n&nbsp\;\n\nPAR
 KING\n\nLimited parking is available onsite at PRS in both the front lot (
 entry from Los Feliz Blvd. when heading east) and back lot (entry from fir
 st alley way\, off Griffith Park Blvd. from intersection with Los Feliz Bl
 vd.)\, as well as street parking on Griffith Park Blvd. and (after 7 PM) o
 n Los Feliz Blvd. We encourage attendees to consider carpooling\, walking 
 or biking to events if possible\, and please be considerate of our Los Fel
 iz neighbors when parking.\n\n&nbsp\;\n\nPRS EVENT POLICIES\n\n 	We reserv
 e the right to refuse service to anyone.\n 	Events are subject to change w
 ithout notice\, including guest speakers and/or performers.\n 	We encourag
 e you to arrive at least 30 min. before the scheduled event start time to 
 find parking\, enjoy the Bookstore and take your seats.\n 	Please turn off
  all mobile devices before the show. Talking and texting are not allowed d
 uring the events.\n 	No filming\, audio recording or mobile phone recordin
 g of events\, screenings\, concerts or other programs by audience members 
 is allowed without permission.\n 	There is no smoking permitted on PRS gro
 unds.\n 	We strongly encourage guests to wear masks to PRS events to preve
 nt the spread of infectious diseases.\n 	PRS allows Service Animals into t
 he facility under ADA and state guidelines. For further details please vis
 it www.ADA.gov. No animals permitted whose sole function is to provide com
 fort or emotional support\, under ADA guidelines and CA Health Code.\n 	Pl
 ease do not bring outside food or drink into PRS events.\n 	Weapons are st
 rictly prohibited at PRS events.\n\n\n
ATTACH;FMTTYPE=image/jpeg:https://www.arabamerica.com/wp-content/uploads/2
 025/07/Screenshot-2025-07-29-at-2.59.55-PM.png
LOCATION:Philosophical Research Society\, 3910 Los Feliz Boulevard \, Los A
 ngeles\, United States
GEO:34.113121;-118.277646
X-APPLE-STRUCTURED-LOCATION;VALUE=URI;X-ADDRESS=3910 Los Feliz Boulevard \,
  Los Angeles\, United States;X-APPLE-RADIUS=100;X-TITLE=Philosophical Rese
 arch Society:geo:34.113121,-118.277646
END:VEVENT
BEGIN:VTIMEZONE
TZID:America/Detroit
X-LIC-LOCATION:America/Detroit
BEGIN:DAYLIGHT
DTSTART:20250309T030000
TZOFFSETFROM:-0500
TZOFFSETTO:-0400
TZNAME:EDT
END:DAYLIGHT
END:VTIMEZONE
END:VCALENDAR