BEGIN:VCALENDAR
VERSION:2.0
PRODID:-//wp-events-plugin.com//7.2.3.1//EN
TZID:America/Detroit
X-WR-TIMEZONE:America/Detroit
BEGIN:VEVENT
UID:35577@arabamerica.com
DTSTART;TZID=America/Detroit:20260117T110000
DTEND;TZID=America/Detroit:20260117T180000
DTSTAMP:20251216T183547Z
URL:https://www.arabamerica.com/events/michigan-ramadan-market-2026/
SUMMARY:Michigan Ramadan Market 2026
DESCRIPTION:\nCome and join in celebrating the 5th year of Michigan Ramadan
  Market!\n\n\n\n\nJoin us from the cold for a cozy and warm family-filled
  fun day of workshops\, raffles\, and shopping! The marketplace is going 
 to be rich of Ramadan and Islamic home decor\, modest Islamic attire\, int
 eractive fun crafts for children\, delicious baked goods\, &amp\; more! Mo
 re details on the workshops to be added later!\n\nFollow @michiganramadanm
 arket on Instagram to stay on top of updates!\n\n\n
ATTACH;FMTTYPE=image/jpeg:https://www.arabamerica.com/wp-content/uploads/2
 025/12/https___cdn.evbuc_.com_images_1171214774_807161412913_1_original.jp
 eg
LOCATION:Saint John's Resort\, 44045 Five Mile Road\, Plymouth\, MI\, 48170
 \, United States
GEO:42.394344;-83.476186
X-APPLE-STRUCTURED-LOCATION;VALUE=URI;X-ADDRESS=44045 Five Mile Road\, Plym
 outh\, MI\, 48170\, United States;X-APPLE-RADIUS=100;X-TITLE=Saint John's 
 Resort:geo:42.394344,-83.476186
END:VEVENT
BEGIN:VTIMEZONE
TZID:America/Detroit
X-LIC-LOCATION:America/Detroit
BEGIN:STANDARD
DTSTART:20251102T010000
TZOFFSETFROM:-0400
TZOFFSETTO:-0500
TZNAME:EST
END:STANDARD
END:VTIMEZONE
END:VCALENDAR