BEGIN:VCALENDAR
VERSION:2.0
PRODID:-//wp-events-plugin.com//7.2.3.1//EN
TZID:America/Detroit
X-WR-TIMEZONE:America/Detroit
BEGIN:VEVENT
UID:35069@arabamerica.com
DTSTART;TZID=America/Detroit:20250909T153000
DTEND;TZID=America/Detroit:20250909T170000
DTSTAMP:20250903T042740Z
URL:https://www.arabamerica.com/events/middle-east-center-welcome-back-eve
 nt/
SUMMARY:Middle East Center Welcome Back Event
DESCRIPTION:PHILADELPHIA\, PENNSYLVANIA\n\nJoin the Middle East Center at
  the University of Pennsylvania as we kick off the new academic year! Come
  reconnect with faculty\, students\, and staff over a relaxed afternoon ga
 thering. Enjoy a selection of crudités\, authentic Arabic coffee\, and
  fresh baklava as we welcome new faces and reunite with old friends.\n\n
 All are welcome — we look forward to seeing you there!
ATTACH;FMTTYPE=image/jpeg:https://www.arabamerica.com/wp-content/uploads/2
 025/09/Screen-Shot-2025-09-03-at-12.22.17-AM.png
LOCATION:University of Pennsylvania\, South St.\, Philadephia\, PA\, 19104\
 , United States
GEO:39.94917;-75.1900665
X-APPLE-STRUCTURED-LOCATION;VALUE=URI;X-ADDRESS=South St.\, Philadephia\, P
 A\, 19104\, United States;X-APPLE-RADIUS=100;X-TITLE=University of Pennsyl
 vania:geo:39.94917,-75.1900665
END:VEVENT
BEGIN:VTIMEZONE
TZID:America/Detroit
X-LIC-LOCATION:America/Detroit
BEGIN:DAYLIGHT
DTSTART:20250309T030000
TZOFFSETFROM:-0500
TZOFFSETTO:-0400
TZNAME:EDT
END:DAYLIGHT
END:VTIMEZONE
END:VCALENDAR