BEGIN:VCALENDAR
VERSION:2.0
PRODID:-//wp-events-plugin.com//7.2.3.1//EN
TZID:America/Detroit
X-WR-TIMEZONE:America/Detroit
BEGIN:VEVENT
UID:31565@arabamerica.com
DTSTART;TZID=America/Detroit:20230914T170000
DTEND;TZID=America/Detroit:20230914T180000
DTSTAMP:20230816T152353Z
URL:https://www.arabamerica.com/events/middle-east-cross-cultural-studies-
 2/
SUMMARY:Middle East Cross-Cultural Studies
DESCRIPTION:
ATTACH;FMTTYPE=image/jpeg:https://www.arabamerica.com/wp-content/uploads/2
 023/08/https___cdn.evbuc_.com_images_572382539_87805897703_1_original.jpeg
LOCATION:The Institute of World Politics 1521 16th Street Northwest Washing
 ton\, The Institute of World Politics 1521 16th Street\,  Northwest Washin
 gton\, DC 20036\, United States
GEO:38.910505;-77.036085
X-APPLE-STRUCTURED-LOCATION;VALUE=URI;X-ADDRESS=The Institute of World Poli
 tics 1521 16th Street\,  Northwest Washington\, DC 20036\, United States;X
 -APPLE-RADIUS=100;X-TITLE=The Institute of World Politics 1521 16th Street
  Northwest Washington:geo:38.910505,-77.036085
END:VEVENT
BEGIN:VTIMEZONE
TZID:America/Detroit
X-LIC-LOCATION:America/Detroit
BEGIN:DAYLIGHT
DTSTART:20230312T030000
TZOFFSETFROM:-0500
TZOFFSETTO:-0400
TZNAME:EDT
END:DAYLIGHT
END:VTIMEZONE
END:VCALENDAR