BEGIN:VCALENDAR
VERSION:2.0
PRODID:-//wp-events-plugin.com//7.2.3.1//EN
TZID:America/Detroit
X-WR-TIMEZONE:America/Detroit
BEGIN:VEVENT
UID:32260@arabamerica.com
DTSTART;TZID=America/Detroit:20240309T150000
DTEND;TZID=America/Detroit:20240309T170000
DTSTAMP:20240219T163327Z
URL:https://www.arabamerica.com/events/middle-eastern-american-heritage-mo
 nth-celebration/
SUMMARY:Middle Eastern American Heritage Month Celebration
DESCRIPTION:&nbsp\;\n\n[caption id="attachment_245136" align="alignnone" wi
 dth="186"] The Middle Eastern American Advisory Group's 2024 Middle Easter
 n American Heritage Month Celebration's promotional poster[/caption]\n\n&n
 bsp\;\n\nROCKVILLE\,MD\n\nJoin us for a vibrant celebration of the Middle 
 Eastern American Heritage Month in Montgomery County\, Maryland. The celeb
 ration is presented by the Middle Eastern American Advisory Group (MEAAG) 
 and the Office of Community Partnerships (OCP) of Montgomery County. It's 
 time to immerse yourself in the rich culture\, traditions\, and history of
  the Middle East. Enjoy dazzling music and dance performances\, taste mout
 hwatering delicacies\, and discover the beauty and intricacy of traditiona
 l Middle Eastern crafts\, artworks\, and clothing. The event features a pa
 cked schedule of entertainment\, including live music performances\, cultu
 ral displays\, and storytelling sessions. There will be something for ever
 yone to enjoy\, so come and celebrate Middle Eastern American heritage wit
 h us!\n\nEnjoy the enchanting musical performance by Muath Limited Band.\n
 \nEmcee: Ms. Fatima Younis. A Muslim- and Arab-American\, PhD Student\, Co
 nflict and Peace Studies\, International Relations
ATTACH;FMTTYPE=image/jpeg:https://www.arabamerica.com/wp-content/uploads/2
 024/02/The-Middle-Eastern-American-Advisory-Groups-2024-Middle-Eastern-Ame
 rican-Heritage-Month-Celebration-promotional-poster-.png
CATEGORIES:#arabic
END:VEVENT
BEGIN:VTIMEZONE
TZID:America/Detroit
X-LIC-LOCATION:America/Detroit
BEGIN:STANDARD
DTSTART:20231105T010000
TZOFFSETFROM:-0400
TZOFFSETTO:-0500
TZNAME:EST
END:STANDARD
END:VTIMEZONE
END:VCALENDAR