BEGIN:VCALENDAR
VERSION:2.0
PRODID:-//wp-events-plugin.com//7.2.3.1//EN
TZID:America/Detroit
X-WR-TIMEZONE:America/Detroit
BEGIN:VEVENT
UID:33375@arabamerica.com
DTSTART;TZID=America/Detroit:20240822T183000
DTEND;TZID=America/Detroit:20240822T183000
DTSTAMP:20240820T201224Z
URL:https://www.arabamerica.com/events/middle-eastern-classics-cooking-cla
 ss-by-cozymeal-17/
SUMMARY:Middle Eastern Classics - Cooking Class by Cozymeal&#x2122\;
DESCRIPTION:Phenomenal food and incredible company await you at the chef's 
 table! Join Cozymeal’s upcoming cooking class Join “Middle Eastern Cla
 ssics” with Chef Sarah for an intimate 3-hour culinary experience and 3-
 course meal.\n\n\n\n\nCozymeal offers a variety of culinary experiences\, 
 including cooking classes\, team building activities\, food tours and priv
 ate chef services. We’ll give you a unique\, unforgettable experience ho
 sted by incredible chefs and guides in over 70 cities across the U.S. and 
 Canada. Book a culinary experience with Cozymeal and let theus take care o
 f the rest.\n\nFor additional information and dates visit Middle Eastern C
 lassics\n\n\n\n\n\n
ATTACH;FMTTYPE=image/jpeg:https://www.arabamerica.com/wp-content/uploads/2
 024/08/Screenshot-2024-08-20-at-1.11.34 PM.png
LOCATION:Location provided after booking\, Location provided after booking\
 , Arvada\, CO\, United States
GEO:39.802764;-105.087484
X-APPLE-STRUCTURED-LOCATION;VALUE=URI;X-ADDRESS=Location provided after boo
 king\, Arvada\, CO\, United States;X-APPLE-RADIUS=100;X-TITLE=Location pro
 vided after booking:geo:39.802764,-105.087484
END:VEVENT
BEGIN:VTIMEZONE
TZID:America/Detroit
X-LIC-LOCATION:America/Detroit
BEGIN:DAYLIGHT
DTSTART:20240310T030000
TZOFFSETFROM:-0500
TZOFFSETTO:-0400
TZNAME:EDT
END:DAYLIGHT
END:VTIMEZONE
END:VCALENDAR