BEGIN:VCALENDAR
VERSION:2.0
PRODID:-//wp-events-plugin.com//7.2.3.1//EN
TZID:America/Detroit
X-WR-TIMEZONE:America/Detroit
BEGIN:VEVENT
UID:34551@arabamerica.com
DTSTART;TZID=America/Detroit:20250619T173000
DTEND;TZID=America/Detroit:20250619T203000
DTSTAMP:20250610T153604Z
URL:https://www.arabamerica.com/events/middle-eastern-classics-cooking-cla
 ss-by-cozymeal-21/
SUMMARY:Middle Eastern Classics - Cooking Class by Cozymeal&#x2122\;
DESCRIPTION:ARVADA\, CO\n\nLocation provided after booking.\n\n&nbsp\;\n\nP
 henomenal food and incredible company await you at the chef's table! Join 
 Cozymeal’s upcoming cooking class Join “Middle Eastern Classics” wit
 h Chef Sarah for an intimate 3-hour culinary experience and 3-course meal.
 \n\nCozymeal offers a variety of culinary experiences\, including cooking 
 classes\, team building activities\, food tours and private chef services.
  We’ll give you a unique\, unforgettable experience hosted by incredible
  chefs and guides in over 70 cities across the U.S. and Canada. Book a cul
 inary experience with Cozymeal and let theus take care of the rest.
ATTACH;FMTTYPE=image/jpeg:https://www.arabamerica.com/wp-content/uploads/2
 025/06/middle_eastern_classics_cooking.png
END:VEVENT
BEGIN:VTIMEZONE
TZID:America/Detroit
X-LIC-LOCATION:America/Detroit
BEGIN:DAYLIGHT
DTSTART:20250309T030000
TZOFFSETFROM:-0500
TZOFFSETTO:-0400
TZNAME:EDT
END:DAYLIGHT
END:VTIMEZONE
END:VCALENDAR