BEGIN:VCALENDAR
VERSION:2.0
PRODID:-//wp-events-plugin.com//7.2.3.1//EN
TZID:America/Detroit
X-WR-TIMEZONE:America/Detroit
BEGIN:VEVENT
UID:31618@arabamerica.com
DTSTART;TZID=America/Detroit:20230920T200000
DTEND;TZID=America/Detroit:20230920T230000
DTSTAMP:20230829T193420Z
URL:https://www.arabamerica.com/events/middle-eastern-comedy-night-pasaden
 a-2/
SUMMARY:Middle Eastern Comedy Night -Pasadena
DESCRIPTION:\n\n\n\n\nJack Assadourian is a comedian of Armenian and Mexica
 n descent who has gained popularity for his unique perspective and hilario
 us observations on life. He often incorporates his multicultural backgroun
 d into his stand-up routine\, sharing stories and experiences that resonat
 e with audiences from different backgrounds. With his energetic stage pres
 ence and witty sense of humor\, Jack has become a well-known name in the w
 orld of comedy and has been seen on Netlfix Is A Joke\, Amazon prime video
  laugh after dark and has been heard on His podcast comedy club confession
 s\n\n\n\n\n\n\n\n\n\n\n\n\n\nTags\n\n\n 	United States Events\n 	Californi
 a Events\n 	Things to do in Pasadena\, CA\n 	Pasadena Parties\n 	Pasadena 
 Community Parties\n 	#event\n 	#night\n 	#middleeast\n 	#middleeastern\n 	
 #middleeasternnight\n\n\n
ATTACH;FMTTYPE=image/jpeg:https://www.arabamerica.com/wp-content/uploads/2
 023/08/https___cdn.evbuc_.com_images_570632829_189912248728_1_original-1.j
 peg
CATEGORIES:#arabic,#comedy,#comedy_club,#comedy_show,Arab,Arab Ameircan
 Event,Arab American
LOCATION:Eden Garden Bar & Grill\, 175 East Holly Street\, Pasadena\, CA\, 
 91101\, United States
GEO:34.14786;-118.146444
X-APPLE-STRUCTURED-LOCATION;VALUE=URI;X-ADDRESS=175 East Holly Street\, Pas
 adena\, CA\, 91101\, United States;X-APPLE-RADIUS=100;X-TITLE=Eden Garden 
 Bar & Grill:geo:34.14786,-118.146444
END:VEVENT
BEGIN:VTIMEZONE
TZID:America/Detroit
X-LIC-LOCATION:America/Detroit
BEGIN:DAYLIGHT
DTSTART:20230312T030000
TZOFFSETFROM:-0500
TZOFFSETTO:-0400
TZNAME:EDT
END:DAYLIGHT
END:VTIMEZONE
END:VCALENDAR