BEGIN:VCALENDAR
VERSION:2.0
PRODID:-//wp-events-plugin.com//7.2.3.1//EN
TZID:America/Detroit
X-WR-TIMEZONE:America/Detroit
BEGIN:VEVENT
UID:31012@arabamerica.com
DTSTART;TZID=America/Detroit:20230518T180000
DTEND;TZID=America/Detroit:20230518T210000
DTSTAMP:20230510T175019Z
URL:https://www.arabamerica.com/events/middle-eastern-cooking-market-to-me
 zze-3/
SUMMARY:Middle Eastern Cooking - Market to Mezze
DESCRIPTION:Lexington\, MA\nGet ready for your taste buds to be awakened by
  the fabulous flavors of the Middle East.  We'll start with Baba Ghanouj\
 , a smoky roasted eggplant spread\, then it's on to Hummus\, probably the 
 most popular Middle Eastern dip.  Bake your own Pita Bread to accompany t
 he dips....yes\, it's a fun and easy bread to make! Rounding out the menu 
 are Stuffed Grape Leaves ("Dolma") and Lemon Mint Slushie ("Limonana").\n\
 nFAQs\n\nWhat is the cancellation policy (updated 2/1/23)?\n\nCancelling m
 ore than two weeks before class: Full refund\n\nCancelling less than two w
 eeks\, but more than four days before class: 50% of your ticket price gets
  credited toward a future class. For gift certificates\, 50% will be credi
 ted back to the gift certificate.\n\nCancelling less than four days before
  class: No refund or credit\, including for gift certificates\n\nWhat shou
 ld I bring into to the class?\n\nJust bring yourself and a beverage\, alco
 holic or non-alcoholic\, if you wish (I provide water - still and sparklin
 g). I provide aprons\, equipment\, copies of recipes and the food. Occasio
 nally we will have leftovers\, so feel fring to bring a reusable container
  if you want to bring food home.\n\nWhat are my transportation/parking opt
 ions for getting to and from the event?\n\nThere is plenty of street parki
 ng available. My address is 2 Oakmount Circle - first house on the left wh
 en you turn onto Oakmount (gray cape cod w/ yellow door).\n\nHow can I con
 tact the organizer with any questions?\n\nEmail Katie at twoapronscookery@
 gmail.com
ATTACH;FMTTYPE=image/jpeg:https://www.arabamerica.com/wp-content/uploads/2
 023/05/Screen-Shot-2023-05-10-at-1.45.33-PM.png
CATEGORIES:Arab cooking class
LOCATION:Two Aprons Cookery\, 2 Oakmount Circle\, Lexington\, MA\, 02420\, 
 United States
GEO:42.454227;-71.221271
X-APPLE-STRUCTURED-LOCATION;VALUE=URI;X-ADDRESS=2 Oakmount Circle\, Lexingt
 on\, MA\, 02420\, United States;X-APPLE-RADIUS=100;X-TITLE=Two Aprons Cook
 ery:geo:42.454227,-71.221271
END:VEVENT
BEGIN:VTIMEZONE
TZID:America/Detroit
X-LIC-LOCATION:America/Detroit
BEGIN:DAYLIGHT
DTSTART:20230312T030000
TZOFFSETFROM:-0500
TZOFFSETTO:-0400
TZNAME:EDT
END:DAYLIGHT
END:VTIMEZONE
END:VCALENDAR