BEGIN:VCALENDAR
VERSION:2.0
PRODID:-//wp-events-plugin.com//7.2.3.1//EN
TZID:America/Detroit
X-WR-TIMEZONE:America/Detroit
BEGIN:VEVENT
UID:31534@arabamerica.com
DTSTART;TZID=America/Detroit:20230904T183000
DTEND;TZID=America/Detroit:20230904T193000
DTSTAMP:20230808T163426Z
URL:https://www.arabamerica.com/events/middle-eastern-drumming-with-harry-
 trikaliotis/
SUMMARY:Middle Eastern Drumming with Harry Trikaliotis
DESCRIPTION:\n\n\n\n\nThe darbuka (also known as dumbek\, derbeke or tabla)
  is the most iconic percussive instrument in Middle Eastern music and is p
 opular in many countries including Egypt\, Turkey\, Lebanon and Greece.\n\
 nPlaying darbuka is fun\,exciting\, expressive and is also great for neuro
 -plasticity! Our lessons are taught by Adelaide's leading teacher of darbu
 ka\, Harry Trikaliotis. They are relaxed\, friendly\, educational and open
  to all attendees whether you are a complete beginner or more advanced. Yo
 u get opportunities to perform at events every now and then which adds to 
 confidence-building.\n\nLessons are one hour in duration and include a com
 bination of theory and practical. We learn the various rhythms of the Midd
 le East\, different playing techniques\, stylization and so much more! Eac
 h lesson is only $25 and you can pay as you go.\n\nCome and play darbuka w
 ith us! We promise you a whole lot of fun\, improvement in coordination\, 
 new ways of thinking and a whole new world of music!\n\n\n\n\n\n\n\n\nTags
 \n\n\n 	Australia Events\n 	South Australia Events\n 	Things to do in Kens
 ington Park\, Australia\n 	Kensington Park Classes\n 	Kensington Park Musi
 c Classes\n\n\n
ATTACH;FMTTYPE=image/jpeg:https://www.arabamerica.com/wp-content/uploads/2
 023/08/https___cdn.evbuc_.com_images_542942359_339349754733_1_original.jpe
 g
CATEGORIES:Middle East,Middle Eastern
LOCATION:Belly Dance Elysium\, 318 Magill Road \, Kensington Park\, SA \, 5
 068\, Australia
GEO:-34.914456;138.650705
X-APPLE-STRUCTURED-LOCATION;VALUE=URI;X-ADDRESS=318 Magill Road \, Kensingt
 on Park\, SA \, 5068\, Australia;X-APPLE-RADIUS=100;X-TITLE=Belly Dance El
 ysium:geo:-34.914456,138.650705
END:VEVENT
BEGIN:VTIMEZONE
TZID:America/Detroit
X-LIC-LOCATION:America/Detroit
BEGIN:DAYLIGHT
DTSTART:20230312T030000
TZOFFSETFROM:-0500
TZOFFSETTO:-0400
TZNAME:EDT
END:DAYLIGHT
END:VTIMEZONE
END:VCALENDAR