BEGIN:VCALENDAR
VERSION:2.0
PRODID:-//wp-events-plugin.com//7.2.3.1//EN
TZID:America/Detroit
X-WR-TIMEZONE:America/Detroit
BEGIN:VEVENT
UID:35180@arabamerica.com
DTSTART;TZID=America/Detroit:20251012T120000
DTEND;TZID=America/Detroit:20251012T170000
DTSTAMP:20250930T221851Z
URL:https://www.arabamerica.com/events/middle-eastern-festival-bazaar-3/
SUMMARY:Middle Eastern Festival & Bazaar
DESCRIPTION:WEST ROXBURY\, MA\n\n
ATTACH;FMTTYPE=image/jpeg:https://www.arabamerica.com/wp-content/uploads/2
 025/09/Screenshot-2025-10-01-at-12.06.39-AM.png
LOCATION:St. George Antiochian Orthodox Church\, 55 Emmonsdale Rd\, West Ro
 xbury\, MA\, United States
GEO:42.277209;-71.151629
X-APPLE-STRUCTURED-LOCATION;VALUE=URI;X-ADDRESS=55 Emmonsdale Rd\, West Rox
 bury\, MA\, United States;X-APPLE-RADIUS=100;X-TITLE=St. George Antiochian
  Orthodox Church:geo:42.277209,-71.151629
END:VEVENT
BEGIN:VTIMEZONE
TZID:America/Detroit
X-LIC-LOCATION:America/Detroit
BEGIN:DAYLIGHT
DTSTART:20250309T030000
TZOFFSETFROM:-0500
TZOFFSETTO:-0400
TZNAME:EDT
END:DAYLIGHT
END:VTIMEZONE
END:VCALENDAR