BEGIN:VCALENDAR
VERSION:2.0
PRODID:-//wp-events-plugin.com//7.2.3.1//EN
TZID:America/Detroit
X-WR-TIMEZONE:America/Detroit
BEGIN:VEVENT
UID:35178@arabamerica.com
DTSTART;TZID=America/Detroit:20251110T110000
DTEND;TZID=America/Detroit:20251111T000000
DTSTAMP:20250930T221158Z
URL:https://www.arabamerica.com/events/middle-eastern-festival-bazaar/
SUMMARY:Middle Eastern Festival & Bazaar
DESCRIPTION:WEST ROXBURY\, MA\n\n
ATTACH;FMTTYPE=image/jpeg:https://www.arabamerica.com/wp-content/uploads/2
 025/09/St._George_Bazaar_Flyer_2025-pdf.jpg
LOCATION:St. George Antiochian Orthodox Church\, 55 Emmonsdale Rd\, \, West
  Roxbury\, MA\, United States
GEO:42.277209;-71.151629
X-APPLE-STRUCTURED-LOCATION;VALUE=URI;X-ADDRESS=55 Emmonsdale Rd\, \, West 
 Roxbury\, MA\, United States;X-APPLE-RADIUS=100;X-TITLE=St. George Antioch
 ian Orthodox Church:geo:42.277209,-71.151629
END:VEVENT
BEGIN:VTIMEZONE
TZID:America/Detroit
X-LIC-LOCATION:America/Detroit
BEGIN:STANDARD
DTSTART:20251102T010000
TZOFFSETFROM:-0400
TZOFFSETTO:-0500
TZNAME:EST
END:STANDARD
END:VTIMEZONE
END:VCALENDAR