BEGIN:VCALENDAR
VERSION:2.0
PRODID:-//wp-events-plugin.com//7.2.3.1//EN
TZID:America/Detroit
X-WR-TIMEZONE:America/Detroit
BEGIN:VEVENT
UID:31619@arabamerica.com
DTSTART;TZID=America/Detroit:20230909T183000
DTEND;TZID=America/Detroit:20230909T213000
DTSTAMP:20230829T193856Z
URL:https://www.arabamerica.com/events/middle-eastern-night-a-convivium-fu
 ndraiser-2/
SUMMARY:Middle Eastern Night : A Convivium Fundraiser
DESCRIPTION:\n\n\n\n\nJoin us Saturday\, September 9th for an evening of Mi
 ddle Eastern food\, culture and music at Convivium Urban Farmstead.\n\nWe 
 will be serving Middle Eastern "mezze\," which is a traditional celebrator
 y meal that consists of wave after wave of small plates -- meats\, salads\
 , vegetables dips -- served family style. We will end the evening with som
 e sweet treats\, Turkish coffee and mint tea. Festive clothing is encourag
 ed!\n\nProfits support Convivium's mission to improve life through food.\n
 \n&nbsp\;\n\nA note on refunds: Convivium Urban Farmstead has a no refund
  policy for all classes and workshops. If you are unable to participant in
  the class after you registered\, your fee will be donated to our pay-what
 -you-can sliding scale level\, which helps to ensure our classes are acces
 sible and affordable to all.\n\nHowever\, if Convivium cancels or reschedu
 les a class for any reason (weather\, instructor illness\, etc.)\, partici
 pants will be notified as early as possible by email and their registratio
 n will automatically be transferred to the date of the rescheduled class. 
 In the case that the participant cannot make the rescheduled class date\, 
 Convivium will issue a gift card in the full amount of the class that can 
 be used toward any future class. This gift card can be mailed to the parti
 cipant or picked up at Convivium (2811 Jackson St. Dubuque\, IA 52001). We
  appreciate your understanding and thank you for your cooperation.\n\n&nbs
 p\;\n\n\n\n\n\n\n\n\nTags\n\n\n 	United States Events\n 	Iowa Events\n 	Th
 ings to do in Dubuque\, IA\n 	Dubuque Classes\n 	Dubuque Food &amp\; Drink
  Classes\n 	#food\n 	#cooking\n 	#culture\n 	#dubuque\n 	#convivium\n 	#mi
 ddleeasterndance\n 	#middleeast\n 	#middleeastern\n 	#middleeasternfood\n 
 	#conviviumurbanfarmstead\n\n\n
ATTACH;FMTTYPE=image/jpeg:https://www.arabamerica.com/wp-content/uploads/2
 023/08/https___cdn.evbuc_.com_images_566424909_68560075437_1_original.jpeg
CATEGORIES:#arabic,Arab Ameircan Event,Arab American,Arab Cuisine,Arab
 Culture,Arab Culture Night,Arab Food
LOCATION:Convivium Urban Farmstead\, 2811 Jackson Street\,  Dubuque\,  IA \
 , 52001\, United States
GEO:42.523431;-90.677434
X-APPLE-STRUCTURED-LOCATION;VALUE=URI;X-ADDRESS=2811 Jackson Street\,  Dubu
 que\,  IA \, 52001\, United States;X-APPLE-RADIUS=100;X-TITLE=Convivium Ur
 ban Farmstead:geo:42.523431,-90.677434
END:VEVENT
BEGIN:VTIMEZONE
TZID:America/Detroit
X-LIC-LOCATION:America/Detroit
BEGIN:DAYLIGHT
DTSTART:20230312T030000
TZOFFSETFROM:-0500
TZOFFSETTO:-0400
TZNAME:EDT
END:DAYLIGHT
END:VTIMEZONE
END:VCALENDAR