BEGIN:VCALENDAR
VERSION:2.0
PRODID:-//wp-events-plugin.com//7.2.3.1//EN
TZID:America/Detroit
X-WR-TIMEZONE:America/Detroit
BEGIN:VEVENT
UID:33374@arabamerica.com
DTSTART;TZID=America/Detroit:20240908T120000
DTEND;TZID=America/Detroit:20240908T180000
DTSTAMP:20240820T200714Z
URL:https://www.arabamerica.com/events/middle-eastern-picnic/
SUMMARY:Middle Eastern Picnic
DESCRIPTION:Worcester\, MA\n\n\nJoin us for a fun Middle Eastern Picnic on 
 9/8/2024 at from 12 Noon - 6PM! Enjoy delicious food\, music\, and good co
 mpany!\n\n\n\n&nbsp\;\n\n\n\n\n\n\nTaste the Magic of the Middle East!\n\n
 Craving something exotic? Join us for a mouthwatering Middle Eastern feast
  at the historic Our Lady of Perpetual Help Melkite Catholic Church! Over 
 100 years a Worcester landmark\, this beautiful church is the perfect sett
 ing for our annual picnic on September 8th from noon-6PM. Savor the tantal
 izing flavors of Chicken Shawarma\, melt-in-your-mouth Kibbeh\, and juicy 
 Chicken Kabobs. It's a culinary adventure you won't want to miss! Dance to
  live music\, enjoy family fun\, and support a great cause. Scan the QR co
 de below to learn more or to make a donation.\n\n\n\n\n\n\n\n\n\n\n\n\n
ATTACH;FMTTYPE=image/jpeg:https://www.arabamerica.com/wp-content/uploads/2
 024/08/Screenshot-2024-08-20-at-1.05.15 PM.png
LOCATION:256 Hamilton St\, 256 Hamilton St\, Worcester\, MA\, 01604\, Unite
 d States
GEO:42.256198;-71.771021
X-APPLE-STRUCTURED-LOCATION;VALUE=URI;X-ADDRESS=256 Hamilton St\, Worcester
 \, MA\, 01604\, United States;X-APPLE-RADIUS=100;X-TITLE=256 Hamilton St:g
 eo:42.256198,-71.771021
END:VEVENT
BEGIN:VTIMEZONE
TZID:America/Detroit
X-LIC-LOCATION:America/Detroit
BEGIN:DAYLIGHT
DTSTART:20240310T030000
TZOFFSETFROM:-0500
TZOFFSETTO:-0400
TZNAME:EDT
END:DAYLIGHT
END:VTIMEZONE
END:VCALENDAR