BEGIN:VCALENDAR
VERSION:2.0
PRODID:-//wp-events-plugin.com//7.2.3.1//EN
TZID:America/Detroit
X-WR-TIMEZONE:America/Detroit
BEGIN:VEVENT
UID:34504@arabamerica.com
DTSTART;TZID=America/Detroit:20250608T120000
DTEND;TZID=America/Detroit:20250608T120000
DTSTAMP:20250602T202845Z
URL:https://www.arabamerica.com/events/miftaah-eid-carnival-2/
SUMMARY:Miftaah Eid Carnival
DESCRIPTION:WARREN\, MI\n\nMiftaah Event: Eid Carnival!\n\nAs we prepare fo
 r our returning hujjaj (pilgrims)\, we look forward to another Eid festiva
 l to let our children experience the beauty and joy of our Muslim holidays
 ! Join us for our Eid Carnival not only for the thrill and rides but also 
 to enjoy your favorite cafes\, dessert spots\, and restaurants. The annual
  Eid Festival also gives us a chance to reconnect as a community\; familie
 s\, friends and neighbors. The day includes Halal food\, rides\, games\, a
 nd a diverse bazaar. There will also be an opportunity to purchase differe
 nt Eid gifts for family and friends!\n\nBe sure to bring your family and f
 riends as we enjoy our Eid together with different festivities\, such as:\
 n\n- Carnival Rides\, for kids and adults\n\n- A Petting Zoo - A Bounce Ho
 use\n\n- A Clothing Bazaar\n\n- Food Trucks\n\n- Youth Basketball Tourname
 nt\n\n- Horse Rides\n\n- and more!!
ATTACH;FMTTYPE=image/jpeg:https://www.arabamerica.com/wp-content/uploads/2
 025/06/Screenshot-2025-06-02-at-4.29.46 PM.png
LOCATION:Unity Academy\, 27800 Dequindre Rd\, Warren\, MI\, 48092\, United 
 States
GEO:42.49774;-83.083721
X-APPLE-STRUCTURED-LOCATION;VALUE=URI;X-ADDRESS=27800 Dequindre Rd\, Warren
 \, MI\, 48092\, United States;X-APPLE-RADIUS=100;X-TITLE=Unity Academy:geo
 :42.49774,-83.083721
END:VEVENT
BEGIN:VTIMEZONE
TZID:America/Detroit
X-LIC-LOCATION:America/Detroit
BEGIN:DAYLIGHT
DTSTART:20250309T030000
TZOFFSETFROM:-0500
TZOFFSETTO:-0400
TZNAME:EDT
END:DAYLIGHT
END:VTIMEZONE
END:VCALENDAR