BEGIN:VCALENDAR
VERSION:2.0
PRODID:-//wp-events-plugin.com//7.2.3.1//EN
TZID:America/Detroit
X-WR-TIMEZONE:America/Detroit
BEGIN:VEVENT
UID:36240@arabamerica.com
DTSTART;TZID=America/Detroit:20260423T110000
DTEND;TZID=America/Detroit:20260423T123000
DTSTAMP:20260422T112417Z
URL:https://www.arabamerica.com/events/migration-and-mobilization-the-hist
 ory-identity-and-politics-of-the-palestinian-diaspora-in-chile/
SUMMARY:Migration and Mobilization: The History\, Identity\, and Politics o
 f the Palestinian Diaspora in Chile
DESCRIPTION:Online\n\nArab Center Washington DC (ACW) and the Eugenio Cha
 huán Center for Arab Studies at the University of Chile (Centro de Estud
 ios Árabes Eugenio Chahuán) are jointly organizing a webinar to examine 
 the evolution of the Chilean‑Palestinian diaspora through the lenses of 
 migration history\, identity construction\, and political mobilization. Re
 nowned experts will explore how the Palestinian community in Chile has nav
 igated questions of integration\, representation\, and intergenerational s
 olidarity. The webinar will also assess the political and economic influen
 ce of Palestinian‑Chilean institutions\, the community’s evolving poli
 tical engagement and contributions to civic life\, and the ways in which g
 lobal events—from the Nakba to the Gaza genocide to debates on Palestini
 an statehood—have reverberated within Chilean society. Panelists will an
 alyze Chile’s policy approaches toward Palestine and Israel\, as well as
  the role of the Palestinian diaspora in shaping public discourse and infl
 uencing foreign policy decisions.
ATTACH;FMTTYPE=image/jpeg:https://www.arabamerica.com/wp-content/uploads/2
 026/04/Screen-Shot-2026-04-22-at-07.23.04.png
END:VEVENT
BEGIN:VTIMEZONE
TZID:America/Detroit
X-LIC-LOCATION:America/Detroit
BEGIN:DAYLIGHT
DTSTART:20260308T030000
TZOFFSETFROM:-0500
TZOFFSETTO:-0400
TZNAME:EDT
END:DAYLIGHT
END:VTIMEZONE
END:VCALENDAR