BEGIN:VCALENDAR
VERSION:2.0
PRODID:-//wp-events-plugin.com//7.2.3.1//EN
TZID:America/Detroit
X-WR-TIMEZONE:America/Detroit
BEGIN:VEVENT
UID:33276@arabamerica.com
DTSTART;TZID=America/Detroit:20240831T160000
DTEND;TZID=America/Detroit:20240831T180000
DTSTAMP:20240729T162644Z
URL:https://www.arabamerica.com/events/miko-peled/
SUMMARY:Miko Peled
DESCRIPTION:ATLANTA\, GA\n\nJoin us for an evening where Miko Peled shares 
 his views on Justice\, Human Rights and Equality for Palestine\n\n\nPlease
  note that tickets are non-refundable.  We do encourage you to gift your 
 ticket(s) if you are unable to attend the event to someone who would enjoy
  the gathering and contribute to support us.\n\n
ATTACH;FMTTYPE=image/jpeg:https://www.arabamerica.com/wp-content/uploads/2
 024/07/temp-63.jpg
LOCATION:Unitarian Universalist Congregation of Atlanta\,  2650 M. Druid Hi
 lls Rd NE \, Atlanta\, Georgia\, 30329\, United States
GEO:33.823509;-84.317538
X-APPLE-STRUCTURED-LOCATION;VALUE=URI;X-ADDRESS= 2650 M. Druid Hills Rd NE 
 \, Atlanta\, Georgia\, 30329\, United States;X-APPLE-RADIUS=100;X-TITLE=Un
 itarian Universalist Congregation of Atlanta:geo:33.823509,-84.317538
END:VEVENT
BEGIN:VTIMEZONE
TZID:America/Detroit
X-LIC-LOCATION:America/Detroit
BEGIN:DAYLIGHT
DTSTART:20240310T030000
TZOFFSETFROM:-0500
TZOFFSETTO:-0400
TZNAME:EDT
END:DAYLIGHT
END:VTIMEZONE
END:VCALENDAR