BEGIN:VCALENDAR
VERSION:2.0
PRODID:-//wp-events-plugin.com//7.2.3.1//EN
TZID:America/Detroit
X-WR-TIMEZONE:America/Detroit
BEGIN:VEVENT
UID:31590@arabamerica.com
DTSTART;TZID=America/Detroit:20230831T110000
DTEND;TZID=America/Detroit:20230831T123000
DTSTAMP:20230820T171116Z
URL:https://www.arabamerica.com/events/military-history-club-conflicts-in-
 the-middle-east-lebanon-civil-war/
SUMMARY:Military History Club: Conflicts in the Middle East - Lebanon Civil
  War
DESCRIPTION:Join our monthly discussion group! We are continuing a discussi
 on series centered on military conflicts. This month\, participate in a th
 oughtful\, guided discussion of the Civil War in Lebanon.\n\nGroup meets 1
 1 AM to 12:30 PM in the Heim Center\, Room 131/132.
ATTACH;FMTTYPE=image/jpeg:https://www.arabamerica.com/wp-content/uploads/2
 023/08/https___cdn.evbuc_.com_images_574521879_36697224910_1_original.jpeg
CATEGORIES:Arab Ameircan Event,Arab
 American,Community,culture,Discussion,Food,Lecture
LOCATION:Parkway Central 1901 Vine Street Heim Center Room 131/132\, Free L
 ibrary of Philadelphia\, Parkway Central 1901 Vine Street Heim Center Room
  131/132\, Philadelphia\, PA\, 19103\, United States
GEO:39.959565;-75.171045
X-APPLE-STRUCTURED-LOCATION;VALUE=URI;X-ADDRESS=Free Library of Philadelphi
 a\, Parkway Central 1901 Vine Street Heim Center Room 131/132\, Philadelph
 ia\, PA\, 19103\, United States;X-APPLE-RADIUS=100;X-TITLE=Parkway Central
  1901 Vine Street Heim Center Room 131/132:geo:39.959565,-75.171045
END:VEVENT
BEGIN:VTIMEZONE
TZID:America/Detroit
X-LIC-LOCATION:America/Detroit
BEGIN:DAYLIGHT
DTSTART:20230312T030000
TZOFFSETFROM:-0500
TZOFFSETTO:-0400
TZNAME:EDT
END:DAYLIGHT
END:VTIMEZONE
END:VCALENDAR