BEGIN:VCALENDAR
VERSION:2.0
PRODID:-//wp-events-plugin.com//7.2.3.1//EN
TZID:America/Detroit
X-WR-TIMEZONE:America/Detroit
BEGIN:VEVENT
UID:30979@arabamerica.com
DTSTART;TZID=America/Detroit:20230607T180000
DTEND;TZID=America/Detroit:20230607T200000
DTSTAMP:20230502T132108Z
URL:https://www.arabamerica.com/events/mingle-over-moroccan-a-singles-even
 t-for-foodies/
SUMMARY:Mingle over Moroccan: A Singles Event for Foodies
DESCRIPTION:For nearly a decade\, Tara Kitchen has served Moroccan food tha
 t’s for everyone. Vibrant\, not fiery\, it’s seasoned with spices that
  reflect Morocco’s history as a cultural crossroad and celebrated Chef A
 neesa Waheed’s talent for building beautifully balanced flavors out of u
 nexpected combinations.\n\nCome expand your palette and mingle with single
 s while enjoying a buffet consisting of Moroccan Specialties including Lam
 b / Chicken / Vegetarian options / Salad / Desserts and a cash bar.\n\nT
 ﻿ickets include the buffet.
ATTACH;FMTTYPE=image/jpeg:https://www.arabamerica.com/wp-content/uploads/2
 023/05/https___cdn.evbuc_.com_images_473308319_1401236189033_1_original.jp
 eg
CATEGORIES:#arabic,Arab Dating,culture,Discussion,Food,Moroccan
 Delights,Moroccan Food
LOCATION:Tara Kitchen\, 1785 Western Avenue\, Albany\, NY\, 12203\, United 
 States
GEO:42.690191;-73.865315
X-APPLE-STRUCTURED-LOCATION;VALUE=URI;X-ADDRESS=1785 Western Avenue\, Alban
 y\, NY\, 12203\, United States;X-APPLE-RADIUS=100;X-TITLE=Tara Kitchen:geo
 :42.690191,-73.865315
END:VEVENT
BEGIN:VTIMEZONE
TZID:America/Detroit
X-LIC-LOCATION:America/Detroit
BEGIN:DAYLIGHT
DTSTART:20230312T030000
TZOFFSETFROM:-0500
TZOFFSETTO:-0400
TZNAME:EDT
END:DAYLIGHT
END:VTIMEZONE
END:VCALENDAR