BEGIN:VCALENDAR
VERSION:2.0
PRODID:-//wp-events-plugin.com//7.2.3.1//EN
TZID:America/Detroit
X-WR-TIMEZONE:America/Detroit
BEGIN:VEVENT
UID:34918@arabamerica.com
DTSTART;TZID=America/Phoenix:20250806T180000
DTEND;TZID=America/Phoenix:20250806T190000
DTSTAMP:20250805T211559Z
URL:https://www.arabamerica.com/events/mixed-taste-k-pop-the-keffiyeh/
SUMMARY:Mixed Taste: K-Pop & the Keffiyeh
DESCRIPTION:DENVER\, CO\n\n&nbsp\;\n\nTwo speakers. Two totally unrelated t
 opics. One surprising night of connections. That’s Mixed Taste: Tag Team
  Lectures on Unrelated Topics.\n\n\nK-Pop &amp\; the Keffiyeh with Hyonjeo
 ng Kim Han &amp\; Marwan Shousher\nYour favorite off-beat lecture series i
 s back at the Holiday Theater! Mixed Taste returns another summer of misma
 tched magic\, where serious topics meet some not-so-serious fun.\n\nEach n
 ight\, two speakers take the stage with back-to-back talks on completely u
 nrelated topics. But the real magic happens when the audience steps in for
  the Q&amp\;A\, finding unexpected connections no one saw coming.\n\nHoste
 d by the inimitable Bobby LeFebre\, with new speakers\, poets\, and mash-u
 ps every week\, Mixed Taste is the intellectual joyride you didn’t know 
 you needed.\n\nWednesday nights at the Holiday Theater. Doors at 6 PM. Pro
 gram at 7 PM. Drinks\, snacks\, and serendipity await.\n\nYour Mixed Taste
  ticket includes admission to MCA Denver anytime before August 24. Simply 
 show your confirmation email at the front desk of the museum.\n\n\n\n\n\nA
 bout the Speakers\nHyonjeong Kim Han\n\nHyonjeong “HJ” Kim Han is the 
 Joseph de Heer Curator of Asian Art at the Denver Art Museum\, overseeing 
 a collection spanning China to the Himalayas. Formerly at the Asian Art Mu
 seum of San Francisco and LACMA\, she has curated acclaimed exhibitions su
 ch as Couture Korea and Likeness and Legacy in Korean Portraiture. A speci
 alist in East Asian art\, Han holds degrees from Seoul National University
  and UC Santa Barbara.\n\nMarwan Shousher\n\nMarwan Shousher is a Brooklyn
 -based photographer specializing in sports and commercial imagery\, with a
  focus on platforming Arab art and culture. His work has been featured in 
 publications such as Rabona Magazine\, The Players' Tribune\, and HYPEBAE.
  Utilizing medium format and Leica M series cameras\, Shousher's photograp
 hy captures the intersections of athletics\, identity\, and urban life.\n\
 nGet Tickets Here\n\n\n
ATTACH;FMTTYPE=image/jpeg:https://www.arabamerica.com/wp-content/uploads/2
 025/08/Screenshot-2025-08-05-at-5.13.40-PM.png
CATEGORIES:Arab American,Community,culture,Discussion
LOCATION:MCA Denver at the Holiday Theater\, 2644 West 32nd Avenue\, Denver
  \, CO\, 80211\, United States
GEO:39.761822;-105.020252
X-APPLE-STRUCTURED-LOCATION;VALUE=URI;X-ADDRESS=2644 West 32nd Avenue\, Den
 ver \, CO\, 80211\, United States;X-APPLE-RADIUS=100;X-TITLE=MCA Denver at
  the Holiday Theater:geo:39.761822,-105.020252
END:VEVENT
BEGIN:VTIMEZONE
TZID:America/Phoenix
X-LIC-LOCATION:America/Phoenix
BEGIN:STANDARD
DTSTART:20240806T180000
TZOFFSETFROM:-0700
TZOFFSETTO:-0700
TZNAME:MST
END:STANDARD
END:VTIMEZONE
END:VCALENDAR