BEGIN:VCALENDAR
VERSION:2.0
PRODID:-//wp-events-plugin.com//7.2.3.1//EN
TZID:America/Detroit
X-WR-TIMEZONE:America/Detroit
BEGIN:VEVENT
UID:35073@arabamerica.com
DTSTART;TZID=America/Detroit:20250927T210000
DTEND;TZID=America/Detroit:20250927T210000
DTSTAMP:20250903T044518Z
URL:https://www.arabamerica.com/events/mizna-and-the-cedar-present-cathars
 is-arab-film-fest-dance-night/
SUMMARY:MIZNA AND THE CEDAR PRESENT: CATHARSIS: ARAB FILM FEST DANCE NIGHT
DESCRIPTION:SOUTH MINNEAPOLIS\, MINNESOTA\n\n\n\nMIZNA and The Cedar presen
 t:\nCATHARSIS: ARAB FILM FEST DANCE NIGHT\nSaturday\, September 27\, 2025 
 / Doors: 8:30 PM / Show: 9:00 PM\n\nAll Ages\n\nStandingThis is a standing
  show with an open floor. To request seating or other access accommodation
 s\, please go to our Access Page.\n\nFor Cedar presented shows\, online t
 icket sales typically end one hour before the door time\, and then\, based
  on availability\, tickets will be available at the door. Tickets purchas
 ed at the door will include a $1 Eventbrite fee.\n\n\n\n\n\nABOUT THIS SHO
 W\nJoin Mizna at The Cedar Cultural Center for a night of purging our grie
 f and anger on the dance floor\, featuring local DJs Jacques\, Jamal\, and
  Talia Knight. Mizna merch and journals will be available to purchase on s
 ite. Free for Arab Film Fest passholders.\n\nArab Film Fest passholders wi
 ll receive a code to reserve their complimentary ticket. Purchase your pas
 s here.\n\n\n\n\n\n\n\n
ATTACH;FMTTYPE=image/jpeg:https://www.arabamerica.com/wp-content/uploads/2
 025/09/Screen-Shot-2025-09-03-at-12.41.57-AM.png
LOCATION:The Cedar Cultural Center\, 416 Cedar Avenue\, Minneapolis\, Minne
 sota \, 55454\, United States
GEO:44.969441;-93.247582
X-APPLE-STRUCTURED-LOCATION;VALUE=URI;X-ADDRESS=416 Cedar Avenue\, Minneapo
 lis\, Minnesota \, 55454\, United States;X-APPLE-RADIUS=100;X-TITLE=The Ce
 dar Cultural Center:geo:44.969441,-93.247582
END:VEVENT
BEGIN:VTIMEZONE
TZID:America/Detroit
X-LIC-LOCATION:America/Detroit
BEGIN:DAYLIGHT
DTSTART:20250309T030000
TZOFFSETFROM:-0500
TZOFFSETTO:-0400
TZNAME:EDT
END:DAYLIGHT
END:VTIMEZONE
END:VCALENDAR