BEGIN:VCALENDAR
VERSION:2.0
PRODID:-//wp-events-plugin.com//7.2.3.1//EN
TZID:America/Detroit
X-WR-TIMEZONE:America/Detroit
BEGIN:VEVENT
UID:30855@arabamerica.com
DTSTART;TZID=America/Detroit:20230429T190000
DTEND;TZID=America/Detroit:20230430T030000
DTSTAMP:20230410T003513Z
URL:https://www.arabamerica.com/events/mohamed-ramadan-and-dj-aseel-2023-2
 /
SUMMARY:Mohamed Ramadan and DJ Aseel 2023
DESCRIPTION:\n\n\n\nDetroit\, MI\nGet ready to experience the ultimate part
 y of 2023 in Detroit!\n\n\n\n\n\n\nUSA as two of the most sought-after ent
 ertainers in the world\, Mohamed Ramadan and DJ Aseel\, come together for 
 the first time on stage! This is a concert you do not want to miss as Moha
 med Ramadan\, the Egyptian superstar known for his electrifying performanc
 es and chart-topping hits\, teams up with DJ Aseel\, the talented Iraqi DJ
  who has been taking the Middle East by storm with her unique blend of bea
 ts and rhythms. From the moment they step on stage\, the energy and excite
 ment will be palpable as they bring their A-game to deliver an unforgettab
 le night of music and entertainment. Get ready to dance\, sing and have th
 e time of your life with Mohamed Ramadan and DJ Aseel\, live in concert in
  Detroit in 2023!\n\n\n\n\n\n\n\n\n\n
ATTACH;FMTTYPE=image/jpeg:https://www.arabamerica.com/wp-content/uploads/2
 023/04/Screen-Shot-2023-04-09-at-8.24.28-PM.png
CATEGORIES:Arab DJ
LOCATION:Russell Industrial Center\, 1600 Clay Street\, Detroit\, MI\, 4821
 1\, United States
GEO:42.37842;-83.060384
X-APPLE-STRUCTURED-LOCATION;VALUE=URI;X-ADDRESS=1600 Clay Street\, Detroit\
 , MI\, 48211\, United States;X-APPLE-RADIUS=100;X-TITLE=Russell Industrial
  Center:geo:42.37842,-83.060384
END:VEVENT
BEGIN:VTIMEZONE
TZID:America/Detroit
X-LIC-LOCATION:America/Detroit
BEGIN:DAYLIGHT
DTSTART:20230312T030000
TZOFFSETFROM:-0500
TZOFFSETTO:-0400
TZNAME:EDT
END:DAYLIGHT
END:VTIMEZONE
END:VCALENDAR