BEGIN:VCALENDAR
VERSION:2.0
PRODID:-//wp-events-plugin.com//7.2.3.1//EN
TZID:America/Detroit
X-WR-TIMEZONE:America/Detroit
BEGIN:VEVENT
UID:34549@arabamerica.com
DTSTART;TZID=America/Detroit:20250620T150000
DTEND;TZID=America/Detroit:20250620T190000
DTSTAMP:20250610T152411Z
URL:https://www.arabamerica.com/events/moka-co-organic-yemeni-coffee-grand
 -opening/
SUMMARY:Moka & Co Organic Yemeni Coffee Grand Opening
DESCRIPTION:NEW YORK CITY\, NY\n\n&nbsp\;\n\n\nSavor the rich flavors of Mo
 ka &amp\; Co’s organic Yemeni coffee at our grand opening event! Enjoy l
 ive music\, drinks and bite-sized treats!\n\n\n\n\n\n\n\n\n\n\nWelcome to 
 the Moka &amp\; Co Organic Yemeni Coffee Grand Opening! Join us at 142 W
  24th St for a day filled with delicious coffee\, good vibes\, and great 
 company. We are thrilled to share our passion for rare Yemeni coffee with 
 you. Come and experience the rich flavors and unique aroma that sets our c
 offee apart and listen to music with our live DJ. Whether you're a coffee 
 connoisseur or just looking for a cozy spot to unwind\, we've got you cove
 red.\n\nBe among the first 100 customers and enjoy complimentary drinks. D
 on't miss out on this exciting event - see you there!\n\n\n\n\n\n\n
ATTACH;FMTTYPE=image/jpeg:https://www.arabamerica.com/wp-content/uploads/2
 025/04/coffeenaahm.png
LOCATION:142 W 24th St\, 142 West Street\, New York\, NY\, 10011\, United S
 tates
GEO:40.714069;-74.013312
X-APPLE-STRUCTURED-LOCATION;VALUE=URI;X-ADDRESS=142 West Street\, New York\
 , NY\, 10011\, United States;X-APPLE-RADIUS=100;X-TITLE=142 W 24th St:geo:
 40.714069,-74.013312
END:VEVENT
BEGIN:VTIMEZONE
TZID:America/Detroit
X-LIC-LOCATION:America/Detroit
BEGIN:DAYLIGHT
DTSTART:20250309T030000
TZOFFSETFROM:-0500
TZOFFSETTO:-0400
TZNAME:EDT
END:DAYLIGHT
END:VTIMEZONE
END:VCALENDAR