BEGIN:VCALENDAR
VERSION:2.0
PRODID:-//wp-events-plugin.com//7.2.3.1//EN
TZID:America/Detroit
X-WR-TIMEZONE:America/Detroit
BEGIN:VEVENT
UID:33269@arabamerica.com
DTSTART;TZID=America/Detroit:20240420T120000
DTEND;TZID=America/Detroit:20240420T120000
DTSTAMP:20240724T224625Z
URL:https://www.arabamerica.com/events/montgomery-unicef-color-run-for-sou
 th-sudan/
SUMMARY:Montgomery UNICEF Color Run for South Sudan
DESCRIPTION:ROCKY HILL\, NJ\n\nMontgomery UNICEF presents their seventh ann
 ual 3K color run. There will be food\, drinks\, local businesses\, raffles
 \, music\, face paint\, and LOTS of color!\n\nAll the proceeds will be goi
 ng to the UNICEF South Sudan Fund to provide aid for people in South Sudan
  who are suffering through the Second Sudanese Civil War. The plight of th
 ose in Sudan has been overshadowed\, which has undermined the impacts of t
 he war in the country. We look to help provide humanitarian aid to South S
 udan through the Color Run\n\nPrices are temporary and may increase so ple
 ase register early! Children under the age of 5 do not need to register an
 d will not receive a shirt. Any Montgomery Township School District studen
 ts may buy tickets in the Commons at Montgomery High School during lunch f
 or a discounted price starting tentative date.\n\n** shirts are of limite
 d quantity so if you will be arriving to the run late\, please wear a whit
 e shirt just in case **\n\n** there may be extra regular plain white shirt
 s available at the run **\n\nPlease contact montgomeryunicef@gmail.com w
 ith any other questions or concerns! Thank you!
ATTACH;FMTTYPE=image/jpeg:https://www.arabamerica.com/wp-content/uploads/2
 024/07/Screenshot-2024-07-24-154127.png
LOCATION:Rocky Hill\, Rocky Hill \, NJ\, Rocky Hill\, NJ\,  08553\, United 
 States
GEO:40.397774;-74.642971
X-APPLE-STRUCTURED-LOCATION;VALUE=URI;X-ADDRESS=Rocky Hill \, NJ\, Rocky Hi
 ll\, NJ\,  08553\, United States;X-APPLE-RADIUS=100;X-TITLE=Rocky Hill:geo
 :40.397774,-74.642971
END:VEVENT
BEGIN:VTIMEZONE
TZID:America/Detroit
X-LIC-LOCATION:America/Detroit
BEGIN:DAYLIGHT
DTSTART:20240310T030000
TZOFFSETFROM:-0500
TZOFFSETTO:-0400
TZNAME:EDT
END:DAYLIGHT
END:VTIMEZONE
END:VCALENDAR