BEGIN:VCALENDAR
VERSION:2.0
PRODID:-//wp-events-plugin.com//7.2.3.1//EN
TZID:America/Detroit
X-WR-TIMEZONE:America/Detroit
BEGIN:VEVENT
UID:34694@arabamerica.com
DTSTART;TZID=America/Detroit:20250913T110000
DTEND;TZID=America/Detroit:20250913T123000
DTSTAMP:20250702T182903Z
URL:https://www.arabamerica.com/events/moonshine-fusion-dance-festival-bel
 ly-dance-as-somatic-healing-ritual/
SUMMARY:Moonshine Fusion Dance Festival: Belly Dance as Somatic Healing Rit
 ual
DESCRIPTION:HAVRE DE GRACE\, MD\n\n&nbsp\;\n\nThis workshop will explore be
 lly dance as a way to consciously release tension and bring calm awareness
  back to the body.\n\nThis workshop will explore belly dance as a way to c
 onsciously release tension and bring calm awareness back to the body. We w
 ill focus on grounding techniques\, intentionally syncing up belly dance m
 oves with the breath to activate the parasympathetic nervous system and br
 ing dancers back into their bodies. By the end of the workshop\, each danc
 er will have created their own personal Somatic Dance Ritual.\n\nJessica "
 Queen Bastet" has been performing and teaching belly dance for over twenty
  years. Her style is a blend of American Cabaret\, Egyptian Raqs Sharqi\, 
 and Turkish Romany with American dance forms and theatrical elements. As a
  reiki practitioner and former massage therapist\, she has seen how belly 
 dance can be a powerful tool for grounding\, connecting\, and understandin
 g the body. Dance is a healing force and a powerful form of expression.\n\
 nGet Tickets Here
ATTACH;FMTTYPE=image/jpeg:https://www.arabamerica.com/wp-content/uploads/2
 025/07/Screenshot-2025-07-02-at-2.28.39-PM.png
CATEGORIES:Arab,Arab American,Community,culture,Music/Folk/World
LOCATION:The STAR Centre\, 700 Congress Avenue\, Havre de Grace\, Maryland\
 , 21078\, United States
GEO:39.547137;-76.095955
X-APPLE-STRUCTURED-LOCATION;VALUE=URI;X-ADDRESS=700 Congress Avenue\, Havre
  de Grace\, Maryland\, 21078\, United States;X-APPLE-RADIUS=100;X-TITLE=Th
 e STAR Centre:geo:39.547137,-76.095955
END:VEVENT
BEGIN:VTIMEZONE
TZID:America/Detroit
X-LIC-LOCATION:America/Detroit
BEGIN:DAYLIGHT
DTSTART:20250309T030000
TZOFFSETFROM:-0500
TZOFFSETTO:-0400
TZNAME:EDT
END:DAYLIGHT
END:VTIMEZONE
END:VCALENDAR