BEGIN:VCALENDAR
VERSION:2.0
PRODID:-//wp-events-plugin.com//7.2.3.1//EN
TZID:America/Detroit
X-WR-TIMEZONE:America/Detroit
BEGIN:VEVENT
UID:35323@arabamerica.com
DTSTART;TZID=America/Detroit:20251101T213000
DTEND;TZID=America/Detroit:20251102T020000
DTSTAMP:20251028T223246Z
URL:https://www.arabamerica.com/events/moroccan-arabian-night-soca-jam-3/
SUMMARY:Moroccan Arabian Night Soca Jam
DESCRIPTION:\n\n\n\n\n\n\nAbout this event\n\nMusic • World\n\n\n\n\n\n\n
 &#x1f389\; Moroccan Arabian Night &#x1f389\;\n\n&#x1f30d\; A Cultural Fusi
 on Party &#x1f30d\;\n\n&#x1f5d3\;&#xfe0f\; Date: Saturday\, November 1\, 2
 025\n\n&#x1f564\; Time: 9:30 PM ’til late\n\n&#x1f457\; Dress Code: Arab
 ian-Inspired Attire\n\n&#x2728\; Get ready for a magical night under the d
 esert stars &amp\; colorful castle for Kings &amp\; Queena with a vibrant 
 mix of global rhythms:\n\n&#x1f3b6\; Soca | Calypso | Bouyon | Afrobeats |
  Zouk | Salsa |Kompa• Reggae and More!\n\n&#x1f525\; Exotic vibes • Cu
 ltural beats • Global energy &#x1f525\;\n\nLet the music move you. Let t
 he culture unite us.\n\n\n\n\n\n
LOCATION:606 Johnson Street Fayetteville\, 606 Johnson Street\, Fayettevill
 e\, NC\, 28303\, United States
GEO:35.096593;-78.945091
X-APPLE-STRUCTURED-LOCATION;VALUE=URI;X-ADDRESS=606 Johnson Street\, Fayett
 eville\, NC\, 28303\, United States;X-APPLE-RADIUS=100;X-TITLE=606 Johnson
  Street Fayetteville:geo:35.096593,-78.945091
END:VEVENT
BEGIN:VTIMEZONE
TZID:America/Detroit
X-LIC-LOCATION:America/Detroit
BEGIN:DAYLIGHT
DTSTART:20250309T030000
TZOFFSETFROM:-0500
TZOFFSETTO:-0400
TZNAME:EDT
END:DAYLIGHT
BEGIN:STANDARD
DTSTART:20251102T010000
TZOFFSETFROM:-0400
TZOFFSETTO:-0500
TZNAME:EST
END:STANDARD
END:VTIMEZONE
END:VCALENDAR